BEGIN:VCALENDAR
VERSION:2.0
PRODID:-//Cinecenta - ECPv6.15.19//NONSGML v1.0//EN
CALSCALE:GREGORIAN
METHOD:PUBLISH
X-WR-CALNAME:Cinecenta
X-ORIGINAL-URL:https://www.cinecenta.com
X-WR-CALDESC:Events for Cinecenta
REFRESH-INTERVAL;VALUE=DURATION:PT1H
X-Robots-Tag:noindex
X-PUBLISHED-TTL:PT1H
BEGIN:VTIMEZONE
TZID:America/Vancouver
BEGIN:DAYLIGHT
TZOFFSETFROM:-0800
TZOFFSETTO:-0700
TZNAME:PDT
DTSTART:20230312T100000
END:DAYLIGHT
BEGIN:STANDARD
TZOFFSETFROM:-0700
TZOFFSETTO:-0800
TZNAME:PST
DTSTART:20231105T090000
END:STANDARD
BEGIN:DAYLIGHT
TZOFFSETFROM:-0800
TZOFFSETTO:-0700
TZNAME:PDT
DTSTART:20240310T100000
END:DAYLIGHT
BEGIN:STANDARD
TZOFFSETFROM:-0700
TZOFFSETTO:-0800
TZNAME:PST
DTSTART:20241103T090000
END:STANDARD
BEGIN:DAYLIGHT
TZOFFSETFROM:-0800
TZOFFSETTO:-0700
TZNAME:PDT
DTSTART:20250309T100000
END:DAYLIGHT
BEGIN:STANDARD
TZOFFSETFROM:-0700
TZOFFSETTO:-0800
TZNAME:PST
DTSTART:20251102T090000
END:STANDARD
END:VTIMEZONE
BEGIN:VEVENT
DTSTART;TZID=America/Vancouver:20240720T170000
DTEND;TZID=America/Vancouver:20240720T183000
DTSTAMP:20260421T115037
CREATED:20240403T223049Z
LAST-MODIFIED:20240703T233842Z
UID:10163-1721494800-1721500200@www.cinecenta.com
SUMMARY:Perfect Days
DESCRIPTION:
URL:https://www.cinecenta.com/calendar/perfect-days/2024-07-20/
ATTACH;FMTTYPE=image/jpeg:https://www.cinecenta.com/wp-content/uploads/2024/04/Perfect-Days-3-e1712183383990.jpg
END:VEVENT
BEGIN:VEVENT
DTSTART;TZID=America/Vancouver:20240720T193000
DTEND;TZID=America/Vancouver:20240720T210000
DTSTAMP:20260421T115037
CREATED:20240403T223049Z
LAST-MODIFIED:20240703T233843Z
UID:10164-1721503800-1721509200@www.cinecenta.com
SUMMARY:Perfect Days
DESCRIPTION:
URL:https://www.cinecenta.com/calendar/perfect-days/2024-07-20/2/
ATTACH;FMTTYPE=image/jpeg:https://www.cinecenta.com/wp-content/uploads/2024/04/Perfect-Days-3-e1712183383990.jpg
END:VEVENT
END:VCALENDAR