BEGIN:VCALENDAR
VERSION:2.0
PRODID:-//Cinecenta - ECPv6.15.19//NONSGML v1.0//EN
CALSCALE:GREGORIAN
METHOD:PUBLISH
X-ORIGINAL-URL:https://www.cinecenta.com
X-WR-CALDESC:Events for Cinecenta
REFRESH-INTERVAL;VALUE=DURATION:PT1H
X-Robots-Tag:noindex
X-PUBLISHED-TTL:PT1H
BEGIN:VTIMEZONE
TZID:America/Vancouver
BEGIN:DAYLIGHT
TZOFFSETFROM:-0800
TZOFFSETTO:-0700
TZNAME:PDT
DTSTART:20240310T100000
END:DAYLIGHT
BEGIN:STANDARD
TZOFFSETFROM:-0700
TZOFFSETTO:-0800
TZNAME:PST
DTSTART:20241103T090000
END:STANDARD
BEGIN:DAYLIGHT
TZOFFSETFROM:-0800
TZOFFSETTO:-0700
TZNAME:PDT
DTSTART:20250309T100000
END:DAYLIGHT
BEGIN:STANDARD
TZOFFSETFROM:-0700
TZOFFSETTO:-0800
TZNAME:PST
DTSTART:20251102T090000
END:STANDARD
BEGIN:DAYLIGHT
TZOFFSETFROM:-0800
TZOFFSETTO:-0700
TZNAME:PDT
DTSTART:20260308T100000
END:DAYLIGHT
BEGIN:STANDARD
TZOFFSETFROM:-0700
TZOFFSETTO:-0800
TZNAME:PST
DTSTART:20261101T090000
END:STANDARD
END:VTIMEZONE
BEGIN:VEVENT
DTSTART;TZID=America/Vancouver:20250129T172000
DTEND;TZID=America/Vancouver:20250129T183000
DTSTAMP:20260424T054820
CREATED:20241217T223603Z
LAST-MODIFIED:20241217T223603Z
UID:11952-1738171200-1738175400@www.cinecenta.com
SUMMARY:Karuara\, People of the River
DESCRIPTION:
URL:https://www.cinecenta.com/calendar/karuara-people-of-the-river-2/2025-01-29/
LOCATION:Cinecenta
ATTACH;FMTTYPE=image/jpeg:https://www.cinecenta.com/wp-content/uploads/2024/10/KPOTR2-e1729540845885.jpg
END:VEVENT
BEGIN:VEVENT
DTSTART;TZID=America/Vancouver:20250129T190000
DTEND;TZID=America/Vancouver:20250129T203000
DTSTAMP:20260424T054820
CREATED:20241217T223603Z
LAST-MODIFIED:20241217T223603Z
UID:11953-1738177200-1738182600@www.cinecenta.com
SUMMARY:Karuara\, People of the River
DESCRIPTION:
URL:https://www.cinecenta.com/calendar/karuara-people-of-the-river-2/2025-01-29/3/
LOCATION:Cinecenta
ATTACH;FMTTYPE=image/jpeg:https://www.cinecenta.com/wp-content/uploads/2024/10/KPOTR2-e1729540845885.jpg
END:VEVENT
END:VCALENDAR