BEGIN:VCALENDAR
VERSION:2.0
PRODID:-//Cinecenta - ECPv6.15.19//NONSGML v1.0//EN
CALSCALE:GREGORIAN
METHOD:PUBLISH
X-WR-CALNAME:Cinecenta
X-ORIGINAL-URL:https://www.cinecenta.com
X-WR-CALDESC:Events for Cinecenta
REFRESH-INTERVAL;VALUE=DURATION:PT1H
X-Robots-Tag:noindex
X-PUBLISHED-TTL:PT1H
BEGIN:VTIMEZONE
TZID:America/Vancouver
BEGIN:DAYLIGHT
TZOFFSETFROM:-0800
TZOFFSETTO:-0700
TZNAME:PDT
DTSTART:20240310T100000
END:DAYLIGHT
BEGIN:STANDARD
TZOFFSETFROM:-0700
TZOFFSETTO:-0800
TZNAME:PST
DTSTART:20241103T090000
END:STANDARD
BEGIN:DAYLIGHT
TZOFFSETFROM:-0800
TZOFFSETTO:-0700
TZNAME:PDT
DTSTART:20250309T100000
END:DAYLIGHT
BEGIN:STANDARD
TZOFFSETFROM:-0700
TZOFFSETTO:-0800
TZNAME:PST
DTSTART:20251102T090000
END:STANDARD
BEGIN:DAYLIGHT
TZOFFSETFROM:-0800
TZOFFSETTO:-0700
TZNAME:PDT
DTSTART:20260308T100000
END:DAYLIGHT
BEGIN:STANDARD
TZOFFSETFROM:-0700
TZOFFSETTO:-0800
TZNAME:PST
DTSTART:20261101T090000
END:STANDARD
END:VTIMEZONE
BEGIN:VEVENT
DTSTART;TZID=America/Vancouver:20250215T143000
DTEND;TZID=America/Vancouver:20250215T163000
DTSTAMP:20260424T053354
CREATED:20250114T211046Z
LAST-MODIFIED:20250114T211046Z
UID:12193-1739629800-1739637000@www.cinecenta.com
SUMMARY:My Favourite Cake
DESCRIPTION:
URL:https://www.cinecenta.com/calendar/my-favourite-cake/
ATTACH;FMTTYPE=image/jpeg:https://www.cinecenta.com/wp-content/uploads/2025/01/VFFlogo.jpg
END:VEVENT
BEGIN:VEVENT
DTSTART;TZID=America/Vancouver:20250215T170000
DTEND;TZID=America/Vancouver:20250215T183000
DTSTAMP:20260424T053354
CREATED:20250114T211638Z
LAST-MODIFIED:20250114T211638Z
UID:12197-1739638800-1739644200@www.cinecenta.com
SUMMARY:Fairy Creek
DESCRIPTION:
URL:https://www.cinecenta.com/calendar/fairy-creek/
ATTACH;FMTTYPE=image/jpeg:https://www.cinecenta.com/wp-content/uploads/2025/01/VFFlogo.jpg
END:VEVENT
BEGIN:VEVENT
DTSTART;TZID=America/Vancouver:20250215T193000
DTEND;TZID=America/Vancouver:20250215T210000
DTSTAMP:20260424T053354
CREATED:20250114T212806Z
LAST-MODIFIED:20250206T181724Z
UID:12201-1739647800-1739653200@www.cinecenta.com
SUMMARY:Forbidden Music
DESCRIPTION:
URL:https://www.cinecenta.com/calendar/forbidden-music/
ATTACH;FMTTYPE=image/jpeg:https://www.cinecenta.com/wp-content/uploads/2025/01/VFFlogo.jpg
END:VEVENT
END:VCALENDAR