BEGIN:VCALENDAR
VERSION:2.0
PRODID:-//Cinecenta - ECPv6.15.19//NONSGML v1.0//EN
CALSCALE:GREGORIAN
METHOD:PUBLISH
X-ORIGINAL-URL:https://www.cinecenta.com
X-WR-CALDESC:Events for Cinecenta
REFRESH-INTERVAL;VALUE=DURATION:PT1H
X-Robots-Tag:noindex
X-PUBLISHED-TTL:PT1H
BEGIN:VTIMEZONE
TZID:America/Vancouver
BEGIN:DAYLIGHT
TZOFFSETFROM:-0800
TZOFFSETTO:-0700
TZNAME:PDT
DTSTART:20240310T100000
END:DAYLIGHT
BEGIN:STANDARD
TZOFFSETFROM:-0700
TZOFFSETTO:-0800
TZNAME:PST
DTSTART:20241103T090000
END:STANDARD
BEGIN:DAYLIGHT
TZOFFSETFROM:-0800
TZOFFSETTO:-0700
TZNAME:PDT
DTSTART:20250309T100000
END:DAYLIGHT
BEGIN:STANDARD
TZOFFSETFROM:-0700
TZOFFSETTO:-0800
TZNAME:PST
DTSTART:20251102T090000
END:STANDARD
BEGIN:DAYLIGHT
TZOFFSETFROM:-0800
TZOFFSETTO:-0700
TZNAME:PDT
DTSTART:20260308T100000
END:DAYLIGHT
BEGIN:STANDARD
TZOFFSETFROM:-0700
TZOFFSETTO:-0800
TZNAME:PST
DTSTART:20261101T090000
END:STANDARD
END:VTIMEZONE
BEGIN:VEVENT
DTSTART;TZID=America/Vancouver:20250706T170000
DTEND;TZID=America/Vancouver:20250706T190000
DTSTAMP:20260420T065757
CREATED:20250520T205834Z
LAST-MODIFIED:20250520T205834Z
UID:13445-1751821200-1751828400@www.cinecenta.com
SUMMARY:Pride & Prejudice
DESCRIPTION:
URL:https://www.cinecenta.com/calendar/pride-prejudice/2025-07-06/
LOCATION:Cinecenta
ATTACH;FMTTYPE=image/jpeg:https://www.cinecenta.com/wp-content/uploads/2025/05/Pride-and-Prejudice-2005-Cast-Where-Are-They-Now-Feature-e1747774490282.jpg
END:VEVENT
BEGIN:VEVENT
DTSTART;TZID=America/Vancouver:20250706T193000
DTEND;TZID=America/Vancouver:20250706T213000
DTSTAMP:20260420T065757
CREATED:20250520T205834Z
LAST-MODIFIED:20250520T205834Z
UID:13451-1751830200-1751837400@www.cinecenta.com
SUMMARY:Pride & Prejudice
DESCRIPTION:
URL:https://www.cinecenta.com/calendar/pride-prejudice/2025-07-06/2/
LOCATION:Cinecenta
ATTACH;FMTTYPE=image/jpeg:https://www.cinecenta.com/wp-content/uploads/2025/05/Pride-and-Prejudice-2005-Cast-Where-Are-They-Now-Feature-e1747774490282.jpg
END:VEVENT
END:VCALENDAR