BEGIN:VCALENDAR
VERSION:2.0
PRODID:-//Cinecenta - ECPv6.15.19//NONSGML v1.0//EN
CALSCALE:GREGORIAN
METHOD:PUBLISH
X-WR-CALNAME:Cinecenta
X-ORIGINAL-URL:https://www.cinecenta.com
X-WR-CALDESC:Events for Cinecenta
REFRESH-INTERVAL;VALUE=DURATION:PT1H
X-Robots-Tag:noindex
X-PUBLISHED-TTL:PT1H
BEGIN:VTIMEZONE
TZID:America/Vancouver
BEGIN:DAYLIGHT
TZOFFSETFROM:-0800
TZOFFSETTO:-0700
TZNAME:PDT
DTSTART:20210314T100000
END:DAYLIGHT
BEGIN:STANDARD
TZOFFSETFROM:-0700
TZOFFSETTO:-0800
TZNAME:PST
DTSTART:20211107T090000
END:STANDARD
BEGIN:DAYLIGHT
TZOFFSETFROM:-0800
TZOFFSETTO:-0700
TZNAME:PDT
DTSTART:20220313T100000
END:DAYLIGHT
BEGIN:STANDARD
TZOFFSETFROM:-0700
TZOFFSETTO:-0800
TZNAME:PST
DTSTART:20221106T090000
END:STANDARD
BEGIN:DAYLIGHT
TZOFFSETFROM:-0800
TZOFFSETTO:-0700
TZNAME:PDT
DTSTART:20230312T100000
END:DAYLIGHT
BEGIN:STANDARD
TZOFFSETFROM:-0700
TZOFFSETTO:-0800
TZNAME:PST
DTSTART:20231105T090000
END:STANDARD
END:VTIMEZONE
BEGIN:VEVENT
DTSTART;TZID=America/Vancouver:20220419T170000
DTEND;TZID=America/Vancouver:20220419T191500
DTSTAMP:20260421T232632
CREATED:20220329T215242Z
LAST-MODIFIED:20220329T215600Z
UID:2422-1650387600-1650395700@www.cinecenta.com
SUMMARY:C.R.A.Z.Y
DESCRIPTION:
URL:https://www.cinecenta.com/calendar/crazy-2/2022-04-19/
ATTACH;FMTTYPE=image/jpeg:https://www.cinecenta.com/wp-content/uploads/2022/03/CRAZY-e1648590947167.jpg
END:VEVENT
END:VCALENDAR