BEGIN:VCALENDAR
VERSION:2.0
PRODID:-//Cinecenta - ECPv6.15.19//NONSGML v1.0//EN
CALSCALE:GREGORIAN
METHOD:PUBLISH
X-WR-CALNAME:Cinecenta
X-ORIGINAL-URL:https://www.cinecenta.com
X-WR-CALDESC:Events for Cinecenta
REFRESH-INTERVAL;VALUE=DURATION:PT1H
X-Robots-Tag:noindex
X-PUBLISHED-TTL:PT1H
BEGIN:VTIMEZONE
TZID:America/Vancouver
BEGIN:DAYLIGHT
TZOFFSETFROM:-0800
TZOFFSETTO:-0700
TZNAME:PDT
DTSTART:20240310T100000
END:DAYLIGHT
BEGIN:STANDARD
TZOFFSETFROM:-0700
TZOFFSETTO:-0800
TZNAME:PST
DTSTART:20241103T090000
END:STANDARD
BEGIN:DAYLIGHT
TZOFFSETFROM:-0800
TZOFFSETTO:-0700
TZNAME:PDT
DTSTART:20250309T100000
END:DAYLIGHT
BEGIN:STANDARD
TZOFFSETFROM:-0700
TZOFFSETTO:-0800
TZNAME:PST
DTSTART:20251102T090000
END:STANDARD
BEGIN:DAYLIGHT
TZOFFSETFROM:-0800
TZOFFSETTO:-0700
TZNAME:PDT
DTSTART:20260308T100000
END:DAYLIGHT
BEGIN:STANDARD
TZOFFSETFROM:-0700
TZOFFSETTO:-0800
TZNAME:PST
DTSTART:20261101T090000
END:STANDARD
END:VTIMEZONE
BEGIN:VEVENT
DTSTART;TZID=America/Vancouver:20250204T190000
DTEND;TZID=America/Vancouver:20250204T203000
DTSTAMP:20260422T024944
CREATED:20241219T235336Z
LAST-MODIFIED:20250204T175340Z
UID:12018-1738695600-1738701000@www.cinecenta.com
SUMMARY:Earnest Cole: Lost and Found CANCELLED DUE TO SNOW CLOSURES
DESCRIPTION:
URL:https://www.cinecenta.com/calendar/earnest-cole-lost-and-found/2025-02-04/2/
LOCATION:Cinecenta
ATTACH;FMTTYPE=image/jpeg:https://www.cinecenta.com/wp-content/uploads/2024/12/thumb_C6C7530B-7AC2-4845-8A10-7FB3D032DB65.jpg
END:VEVENT
BEGIN:VEVENT
DTSTART;TZID=America/Vancouver:20250204T170000
DTEND;TZID=America/Vancouver:20250204T183000
DTSTAMP:20260422T024944
CREATED:20241219T235336Z
LAST-MODIFIED:20250204T175339Z
UID:12016-1738688400-1738693800@www.cinecenta.com
SUMMARY:Earnest Cole: Lost and Found CANCELLED DUE TO SNOW CLOSURES
DESCRIPTION:
URL:https://www.cinecenta.com/calendar/earnest-cole-lost-and-found/2025-02-04/
LOCATION:Cinecenta
ATTACH;FMTTYPE=image/jpeg:https://www.cinecenta.com/wp-content/uploads/2024/12/thumb_C6C7530B-7AC2-4845-8A10-7FB3D032DB65.jpg
END:VEVENT
END:VCALENDAR