BEGIN:VCALENDAR
VERSION:2.0
PRODID:-//Cinecenta - ECPv6.15.19//NONSGML v1.0//EN
CALSCALE:GREGORIAN
METHOD:PUBLISH
X-ORIGINAL-URL:https://www.cinecenta.com
X-WR-CALDESC:Events for Cinecenta
REFRESH-INTERVAL;VALUE=DURATION:PT1H
X-Robots-Tag:noindex
X-PUBLISHED-TTL:PT1H
BEGIN:VTIMEZONE
TZID:America/Vancouver
BEGIN:DAYLIGHT
TZOFFSETFROM:-0800
TZOFFSETTO:-0700
TZNAME:PDT
DTSTART:20240310T100000
END:DAYLIGHT
BEGIN:STANDARD
TZOFFSETFROM:-0700
TZOFFSETTO:-0800
TZNAME:PST
DTSTART:20241103T090000
END:STANDARD
BEGIN:DAYLIGHT
TZOFFSETFROM:-0800
TZOFFSETTO:-0700
TZNAME:PDT
DTSTART:20250309T100000
END:DAYLIGHT
BEGIN:STANDARD
TZOFFSETFROM:-0700
TZOFFSETTO:-0800
TZNAME:PST
DTSTART:20251102T090000
END:STANDARD
BEGIN:DAYLIGHT
TZOFFSETFROM:-0800
TZOFFSETTO:-0700
TZNAME:PDT
DTSTART:20260308T100000
END:DAYLIGHT
BEGIN:STANDARD
TZOFFSETFROM:-0700
TZOFFSETTO:-0800
TZNAME:PST
DTSTART:20261101T090000
END:STANDARD
END:VTIMEZONE
BEGIN:VEVENT
DTSTART;TZID=America/Vancouver:20250721T170000
DTEND;TZID=America/Vancouver:20250721T183000
DTSTAMP:20260420T150634
CREATED:20250711T214817Z
LAST-MODIFIED:20250711T214817Z
UID:13666-1753117200-1753122600@www.cinecenta.com
SUMMARY:Endless Cookie
DESCRIPTION:
URL:https://www.cinecenta.com/calendar/endless-cookie/2025-07-21/
LOCATION:Cinecenta
ATTACH;FMTTYPE=image/jpeg:https://www.cinecenta.com/wp-content/uploads/2025/07/Endless_Cookie_Still-1_99920dd0-7603-f011-ba5b-0efdbb9167fd-e1752270056967.jpg
END:VEVENT
BEGIN:VEVENT
DTSTART;TZID=America/Vancouver:20250721T190000
DTEND;TZID=America/Vancouver:20250721T203000
DTSTAMP:20260420T150634
CREATED:20250711T214817Z
LAST-MODIFIED:20250711T214817Z
UID:13671-1753124400-1753129800@www.cinecenta.com
SUMMARY:Endless Cookie
DESCRIPTION:
URL:https://www.cinecenta.com/calendar/endless-cookie/2025-07-21/2/
LOCATION:Cinecenta
ATTACH;FMTTYPE=image/jpeg:https://www.cinecenta.com/wp-content/uploads/2025/07/Endless_Cookie_Still-1_99920dd0-7603-f011-ba5b-0efdbb9167fd-e1752270056967.jpg
END:VEVENT
BEGIN:VEVENT
DTSTART;TZID=America/Vancouver:20250722T170000
DTEND;TZID=America/Vancouver:20250722T183000
DTSTAMP:20260420T150634
CREATED:20250711T214817Z
LAST-MODIFIED:20250711T214817Z
UID:13672-1753203600-1753209000@www.cinecenta.com
SUMMARY:Endless Cookie
DESCRIPTION:
URL:https://www.cinecenta.com/calendar/endless-cookie/2025-07-22/
LOCATION:Cinecenta
ATTACH;FMTTYPE=image/jpeg:https://www.cinecenta.com/wp-content/uploads/2025/07/Endless_Cookie_Still-1_99920dd0-7603-f011-ba5b-0efdbb9167fd-e1752270056967.jpg
END:VEVENT
BEGIN:VEVENT
DTSTART;TZID=America/Vancouver:20250722T190000
DTEND;TZID=America/Vancouver:20250722T210000
DTSTAMP:20260420T150634
CREATED:20250711T214817Z
LAST-MODIFIED:20250711T214817Z
UID:13673-1753210800-1753218000@www.cinecenta.com
SUMMARY:Endless Cookie
DESCRIPTION:
URL:https://www.cinecenta.com/calendar/endless-cookie/2025-07-22/3/
LOCATION:Cinecenta
ATTACH;FMTTYPE=image/jpeg:https://www.cinecenta.com/wp-content/uploads/2025/07/Endless_Cookie_Still-1_99920dd0-7603-f011-ba5b-0efdbb9167fd-e1752270056967.jpg
END:VEVENT
BEGIN:VEVENT
DTSTART;TZID=America/Vancouver:20250723T170000
DTEND;TZID=America/Vancouver:20250723T183000
DTSTAMP:20260420T150634
CREATED:20250711T220644Z
LAST-MODIFIED:20250711T220644Z
UID:13676-1753290000-1753295400@www.cinecenta.com
SUMMARY:The Hobby: Tales from the Tabletop
DESCRIPTION:
URL:https://www.cinecenta.com/calendar/the-hobby-tales-from-the-tabletop/2025-07-23/
ATTACH;FMTTYPE=image/jpeg:https://www.cinecenta.com/wp-content/uploads/2025/07/TheHobby_Still_003.jpg
END:VEVENT
BEGIN:VEVENT
DTSTART;TZID=America/Vancouver:20250723T190000
DTEND;TZID=America/Vancouver:20250723T203000
DTSTAMP:20260420T150634
CREATED:20250711T220644Z
LAST-MODIFIED:20250711T220644Z
UID:13682-1753297200-1753302600@www.cinecenta.com
SUMMARY:The Hobby: Tales from the Tabletop
DESCRIPTION:
URL:https://www.cinecenta.com/calendar/the-hobby-tales-from-the-tabletop/2025-07-23/2/
ATTACH;FMTTYPE=image/jpeg:https://www.cinecenta.com/wp-content/uploads/2025/07/TheHobby_Still_003.jpg
END:VEVENT
BEGIN:VEVENT
DTSTART;TZID=America/Vancouver:20250724T170000
DTEND;TZID=America/Vancouver:20250724T183000
DTSTAMP:20260420T150634
CREATED:20250711T220644Z
LAST-MODIFIED:20250711T220644Z
UID:13683-1753376400-1753381800@www.cinecenta.com
SUMMARY:The Hobby: Tales from the Tabletop
DESCRIPTION:
URL:https://www.cinecenta.com/calendar/the-hobby-tales-from-the-tabletop/2025-07-24/
ATTACH;FMTTYPE=image/jpeg:https://www.cinecenta.com/wp-content/uploads/2025/07/TheHobby_Still_003.jpg
END:VEVENT
BEGIN:VEVENT
DTSTART;TZID=America/Vancouver:20250724T190000
DTEND;TZID=America/Vancouver:20250724T203000
DTSTAMP:20260420T150634
CREATED:20250711T220644Z
LAST-MODIFIED:20250711T220644Z
UID:13684-1753383600-1753389000@www.cinecenta.com
SUMMARY:The Hobby: Tales from the Tabletop
DESCRIPTION:
URL:https://www.cinecenta.com/calendar/the-hobby-tales-from-the-tabletop/2025-07-24/3/
ATTACH;FMTTYPE=image/jpeg:https://www.cinecenta.com/wp-content/uploads/2025/07/TheHobby_Still_003.jpg
END:VEVENT
BEGIN:VEVENT
DTSTART;TZID=America/Vancouver:20250725T170000
DTEND;TZID=America/Vancouver:20250725T183000
DTSTAMP:20260420T150634
CREATED:20250711T222249Z
LAST-MODIFIED:20250711T222249Z
UID:13687-1753462800-1753468200@www.cinecenta.com
SUMMARY:The Life of Chuck
DESCRIPTION:
URL:https://www.cinecenta.com/calendar/the-life-of-chuck/2025-07-25/
LOCATION:Cinecenta
ATTACH;FMTTYPE=image/jpeg:https://www.cinecenta.com/wp-content/uploads/2025/07/03_THE-LIFE-OF-CHUCK_Courtesy-of-Elevation-Pictures-NEON-e1752272020798.jpg
END:VEVENT
BEGIN:VEVENT
DTSTART;TZID=America/Vancouver:20250725T190000
DTEND;TZID=America/Vancouver:20250725T200000
DTSTAMP:20260420T150634
CREATED:20250711T222249Z
LAST-MODIFIED:20250711T222249Z
UID:13693-1753470000-1753473600@www.cinecenta.com
SUMMARY:The Life of Chuck
DESCRIPTION:
URL:https://www.cinecenta.com/calendar/the-life-of-chuck/2025-07-25/2/
LOCATION:Cinecenta
ATTACH;FMTTYPE=image/jpeg:https://www.cinecenta.com/wp-content/uploads/2025/07/03_THE-LIFE-OF-CHUCK_Courtesy-of-Elevation-Pictures-NEON-e1752272020798.jpg
END:VEVENT
BEGIN:VEVENT
DTSTART;TZID=America/Vancouver:20250726T170000
DTEND;TZID=America/Vancouver:20250726T183000
DTSTAMP:20260420T150634
CREATED:20250711T222249Z
LAST-MODIFIED:20250711T222249Z
UID:13694-1753549200-1753554600@www.cinecenta.com
SUMMARY:The Life of Chuck
DESCRIPTION:
URL:https://www.cinecenta.com/calendar/the-life-of-chuck/2025-07-26/
LOCATION:Cinecenta
ATTACH;FMTTYPE=image/jpeg:https://www.cinecenta.com/wp-content/uploads/2025/07/03_THE-LIFE-OF-CHUCK_Courtesy-of-Elevation-Pictures-NEON-e1752272020798.jpg
END:VEVENT
BEGIN:VEVENT
DTSTART;TZID=America/Vancouver:20250726T190000
DTEND;TZID=America/Vancouver:20250726T203000
DTSTAMP:20260420T150634
CREATED:20250711T222249Z
LAST-MODIFIED:20250711T222249Z
UID:13695-1753556400-1753561800@www.cinecenta.com
SUMMARY:The Life of Chuck
DESCRIPTION:
URL:https://www.cinecenta.com/calendar/the-life-of-chuck/2025-07-26/3/
LOCATION:Cinecenta
ATTACH;FMTTYPE=image/jpeg:https://www.cinecenta.com/wp-content/uploads/2025/07/03_THE-LIFE-OF-CHUCK_Courtesy-of-Elevation-Pictures-NEON-e1752272020798.jpg
END:VEVENT
BEGIN:VEVENT
DTSTART;TZID=America/Vancouver:20250727T170000
DTEND;TZID=America/Vancouver:20250727T183000
DTSTAMP:20260420T150634
CREATED:20250711T224811Z
LAST-MODIFIED:20250711T224811Z
UID:13699-1753635600-1753641000@www.cinecenta.com
SUMMARY:Breakaway Femmes
DESCRIPTION:
URL:https://www.cinecenta.com/calendar/breakaway-femmes/2025-07-27/
LOCATION:Cinecenta
ATTACH;FMTTYPE=image/jpeg:https://www.cinecenta.com/wp-content/uploads/2025/07/breakaway-femmes-195-1000.jpg
END:VEVENT
BEGIN:VEVENT
DTSTART;TZID=America/Vancouver:20250727T190000
DTEND;TZID=America/Vancouver:20250727T203000
DTSTAMP:20260420T150634
CREATED:20250711T224811Z
LAST-MODIFIED:20250711T224811Z
UID:13704-1753642800-1753648200@www.cinecenta.com
SUMMARY:Breakaway Femmes
DESCRIPTION:
URL:https://www.cinecenta.com/calendar/breakaway-femmes/2025-07-27/2/
LOCATION:Cinecenta
ATTACH;FMTTYPE=image/jpeg:https://www.cinecenta.com/wp-content/uploads/2025/07/breakaway-femmes-195-1000.jpg
END:VEVENT
BEGIN:VEVENT
DTSTART;TZID=America/Vancouver:20250728T170000
DTEND;TZID=America/Vancouver:20250728T183000
DTSTAMP:20260420T150634
CREATED:20250711T224811Z
LAST-MODIFIED:20250711T224811Z
UID:13705-1753722000-1753727400@www.cinecenta.com
SUMMARY:Breakaway Femmes
DESCRIPTION:
URL:https://www.cinecenta.com/calendar/breakaway-femmes/2025-07-28/
LOCATION:Cinecenta
ATTACH;FMTTYPE=image/jpeg:https://www.cinecenta.com/wp-content/uploads/2025/07/breakaway-femmes-195-1000.jpg
END:VEVENT
BEGIN:VEVENT
DTSTART;TZID=America/Vancouver:20250728T190000
DTEND;TZID=America/Vancouver:20250728T203000
DTSTAMP:20260420T150634
CREATED:20250711T224811Z
LAST-MODIFIED:20250711T224811Z
UID:13706-1753729200-1753734600@www.cinecenta.com
SUMMARY:Breakaway Femmes
DESCRIPTION:
URL:https://www.cinecenta.com/calendar/breakaway-femmes/2025-07-28/3/
LOCATION:Cinecenta
ATTACH;FMTTYPE=image/jpeg:https://www.cinecenta.com/wp-content/uploads/2025/07/breakaway-femmes-195-1000.jpg
END:VEVENT
BEGIN:VEVENT
DTSTART;TZID=America/Vancouver:20250729T170000
DTEND;TZID=America/Vancouver:20250729T183000
DTSTAMP:20260420T150634
CREATED:20250711T230815Z
LAST-MODIFIED:20250711T230815Z
UID:13709-1753808400-1753813800@www.cinecenta.com
SUMMARY:The Adventures of Priscilla\, Queen of the Desert
DESCRIPTION:
URL:https://www.cinecenta.com/calendar/the-adventures-of-priscilla-queen-of-the-desert/2025-07-29/
LOCATION:Cinecenta
ATTACH;FMTTYPE=image/jpeg:https://www.cinecenta.com/wp-content/uploads/2025/07/the-adventures-of-priscilla-queen-of-the-desert-1994-8-1-2048x1410-1-e1752274625748.jpg
END:VEVENT
BEGIN:VEVENT
DTSTART;TZID=America/Vancouver:20250729T190000
DTEND;TZID=America/Vancouver:20250729T210000
DTSTAMP:20260420T150634
CREATED:20250711T230815Z
LAST-MODIFIED:20250711T230815Z
UID:13715-1753815600-1753822800@www.cinecenta.com
SUMMARY:The Adventures of Priscilla\, Queen of the Desert
DESCRIPTION:
URL:https://www.cinecenta.com/calendar/the-adventures-of-priscilla-queen-of-the-desert/2025-07-29/2/
LOCATION:Cinecenta
ATTACH;FMTTYPE=image/jpeg:https://www.cinecenta.com/wp-content/uploads/2025/07/the-adventures-of-priscilla-queen-of-the-desert-1994-8-1-2048x1410-1-e1752274625748.jpg
END:VEVENT
BEGIN:VEVENT
DTSTART;TZID=America/Vancouver:20250730T170000
DTEND;TZID=America/Vancouver:20250730T183000
DTSTAMP:20260420T150634
CREATED:20250711T232720Z
LAST-MODIFIED:20250711T232720Z
UID:13719-1753894800-1753900200@www.cinecenta.com
SUMMARY:Love & Mercy
DESCRIPTION:
URL:https://www.cinecenta.com/calendar/love-mercy/2025-07-30/
ATTACH;FMTTYPE=image/jpeg:https://www.cinecenta.com/wp-content/uploads/2025/07/49219207953636e030a2da0f8de3cf5d9c5b6519023d70bd8215768af8813cbf.jpg
END:VEVENT
BEGIN:VEVENT
DTSTART;TZID=America/Vancouver:20250730T191500
DTEND;TZID=America/Vancouver:20250730T210000
DTSTAMP:20260420T150634
CREATED:20250711T232720Z
LAST-MODIFIED:20250711T232720Z
UID:13725-1753902900-1753909200@www.cinecenta.com
SUMMARY:Love & Mercy
DESCRIPTION:
URL:https://www.cinecenta.com/calendar/love-mercy/2025-07-30/2/
ATTACH;FMTTYPE=image/jpeg:https://www.cinecenta.com/wp-content/uploads/2025/07/49219207953636e030a2da0f8de3cf5d9c5b6519023d70bd8215768af8813cbf.jpg
END:VEVENT
BEGIN:VEVENT
DTSTART;TZID=America/Vancouver:20250731T170000
DTEND;TZID=America/Vancouver:20250731T183000
DTSTAMP:20260420T150634
CREATED:20250711T232720Z
LAST-MODIFIED:20250711T232720Z
UID:13726-1753981200-1753986600@www.cinecenta.com
SUMMARY:Love & Mercy
DESCRIPTION:
URL:https://www.cinecenta.com/calendar/love-mercy/2025-07-31/
ATTACH;FMTTYPE=image/jpeg:https://www.cinecenta.com/wp-content/uploads/2025/07/49219207953636e030a2da0f8de3cf5d9c5b6519023d70bd8215768af8813cbf.jpg
END:VEVENT
BEGIN:VEVENT
DTSTART;TZID=America/Vancouver:20250731T191500
DTEND;TZID=America/Vancouver:20250731T210000
DTSTAMP:20260420T150634
CREATED:20250711T232720Z
LAST-MODIFIED:20250711T232720Z
UID:13727-1753989300-1753995600@www.cinecenta.com
SUMMARY:Love & Mercy
DESCRIPTION:
URL:https://www.cinecenta.com/calendar/love-mercy/2025-07-31/3/
ATTACH;FMTTYPE=image/jpeg:https://www.cinecenta.com/wp-content/uploads/2025/07/49219207953636e030a2da0f8de3cf5d9c5b6519023d70bd8215768af8813cbf.jpg
END:VEVENT
BEGIN:VEVENT
DTSTART;TZID=America/Vancouver:20250801T170000
DTEND;TZID=America/Vancouver:20250801T190000
DTSTAMP:20260420T150634
CREATED:20250711T234137Z
LAST-MODIFIED:20250711T234409Z
UID:13730-1754067600-1754074800@www.cinecenta.com
SUMMARY:Sinners
DESCRIPTION:
URL:https://www.cinecenta.com/calendar/sinners/2025-08-01/
LOCATION:Cinecenta
ATTACH;FMTTYPE=image/jpeg:https://www.cinecenta.com/wp-content/uploads/2025/07/e3ae8be61e5196b986e387f513007630_1280x720.jpg
END:VEVENT
BEGIN:VEVENT
DTSTART;TZID=America/Vancouver:20250801T193000
DTEND;TZID=America/Vancouver:20250801T213000
DTSTAMP:20260420T150634
CREATED:20250711T234137Z
LAST-MODIFIED:20250711T234410Z
UID:13735-1754076600-1754083800@www.cinecenta.com
SUMMARY:Sinners
DESCRIPTION:
URL:https://www.cinecenta.com/calendar/sinners/2025-08-01/2/
LOCATION:Cinecenta
ATTACH;FMTTYPE=image/jpeg:https://www.cinecenta.com/wp-content/uploads/2025/07/e3ae8be61e5196b986e387f513007630_1280x720.jpg
END:VEVENT
BEGIN:VEVENT
DTSTART;TZID=America/Vancouver:20250802T170000
DTEND;TZID=America/Vancouver:20250802T190000
DTSTAMP:20260420T150634
CREATED:20250711T234137Z
LAST-MODIFIED:20250711T234410Z
UID:13736-1754154000-1754161200@www.cinecenta.com
SUMMARY:Sinners
DESCRIPTION:
URL:https://www.cinecenta.com/calendar/sinners/2025-08-02/
LOCATION:Cinecenta
ATTACH;FMTTYPE=image/jpeg:https://www.cinecenta.com/wp-content/uploads/2025/07/e3ae8be61e5196b986e387f513007630_1280x720.jpg
END:VEVENT
BEGIN:VEVENT
DTSTART;TZID=America/Vancouver:20250802T193000
DTEND;TZID=America/Vancouver:20250802T170000
DTSTAMP:20260420T150634
CREATED:20250711T234137Z
LAST-MODIFIED:20250711T234137Z
UID:13743-1754163000-1754154000@www.cinecenta.com
SUMMARY:Sinners
DESCRIPTION:
URL:https://www.cinecenta.com/calendar/sinners/2025-08-02/
LOCATION:Cinecenta
ATTACH;FMTTYPE=image/jpeg:https://www.cinecenta.com/wp-content/uploads/2025/07/e3ae8be61e5196b986e387f513007630_1280x720.jpg
END:VEVENT
BEGIN:VEVENT
DTSTART;TZID=America/Vancouver:20250803T170000
DTEND;TZID=America/Vancouver:20250803T183000
DTSTAMP:20260420T150634
CREATED:20250716T215432Z
LAST-MODIFIED:20250716T215432Z
UID:13746-1754240400-1754245800@www.cinecenta.com
SUMMARY:Materialists
DESCRIPTION:
URL:https://www.cinecenta.com/calendar/materialists-2/2025-08-03/
LOCATION:Cinecenta
ATTACH;FMTTYPE=image/jpeg:https://www.cinecenta.com/wp-content/uploads/2025/05/Chris-Evans-and-Pedro-Pascal-Both-Vie-to-Win-Dakota-Johnson-s-Heart-in-The-Materialists-Trailer-404.jpg
END:VEVENT
BEGIN:VEVENT
DTSTART;TZID=America/Vancouver:20250803T191500
DTEND;TZID=America/Vancouver:20250803T213000
DTSTAMP:20260420T150634
CREATED:20250716T215432Z
LAST-MODIFIED:20250716T215432Z
UID:13747-1754248500-1754256600@www.cinecenta.com
SUMMARY:Materialists
DESCRIPTION:
URL:https://www.cinecenta.com/calendar/materialists-2/2025-08-03/2/
LOCATION:Cinecenta
ATTACH;FMTTYPE=image/jpeg:https://www.cinecenta.com/wp-content/uploads/2025/05/Chris-Evans-and-Pedro-Pascal-Both-Vie-to-Win-Dakota-Johnson-s-Heart-in-The-Materialists-Trailer-404.jpg
END:VEVENT
BEGIN:VEVENT
DTSTART;TZID=America/Vancouver:20250804T183000
DTEND;TZID=America/Vancouver:20250804T200000
DTSTAMP:20260420T150634
CREATED:20250716T221406Z
LAST-MODIFIED:20250716T221406Z
UID:13759-1754332200-1754337600@www.cinecenta.com
SUMMARY:Police Story
DESCRIPTION:
URL:https://www.cinecenta.com/calendar/police-story/2025-08-04/
ATTACH;FMTTYPE=image/jpeg:https://www.cinecenta.com/wp-content/uploads/2025/07/PoliceStory2.jpg
END:VEVENT
BEGIN:VEVENT
DTSTART;TZID=America/Vancouver:20250805T170000
DTEND;TZID=America/Vancouver:20250805T184000
DTSTAMP:20260420T150634
CREATED:20250716T220154Z
LAST-MODIFIED:20250716T220154Z
UID:13751-1754413200-1754419200@www.cinecenta.com
SUMMARY:Walkabout
DESCRIPTION:
URL:https://www.cinecenta.com/calendar/walkabout-2/2025-08-05/
LOCATION:Cinecenta
ATTACH;FMTTYPE=image/jpeg:https://www.cinecenta.com/wp-content/uploads/2025/07/walkabout-8263_4.jpg
END:VEVENT
END:VCALENDAR