BEGIN:VCALENDAR
VERSION:2.0
PRODID:-//Cinecenta - ECPv6.15.19//NONSGML v1.0//EN
CALSCALE:GREGORIAN
METHOD:PUBLISH
X-WR-CALNAME:Cinecenta
X-ORIGINAL-URL:https://www.cinecenta.com
X-WR-CALDESC:Events for Cinecenta
REFRESH-INTERVAL;VALUE=DURATION:PT1H
X-Robots-Tag:noindex
X-PUBLISHED-TTL:PT1H
BEGIN:VTIMEZONE
TZID:America/Vancouver
BEGIN:DAYLIGHT
TZOFFSETFROM:-0800
TZOFFSETTO:-0700
TZNAME:PDT
DTSTART:20240310T100000
END:DAYLIGHT
BEGIN:STANDARD
TZOFFSETFROM:-0700
TZOFFSETTO:-0800
TZNAME:PST
DTSTART:20241103T090000
END:STANDARD
BEGIN:DAYLIGHT
TZOFFSETFROM:-0800
TZOFFSETTO:-0700
TZNAME:PDT
DTSTART:20250309T100000
END:DAYLIGHT
BEGIN:STANDARD
TZOFFSETFROM:-0700
TZOFFSETTO:-0800
TZNAME:PST
DTSTART:20251102T090000
END:STANDARD
BEGIN:DAYLIGHT
TZOFFSETFROM:-0800
TZOFFSETTO:-0700
TZNAME:PDT
DTSTART:20260308T100000
END:DAYLIGHT
BEGIN:STANDARD
TZOFFSETFROM:-0700
TZOFFSETTO:-0800
TZNAME:PST
DTSTART:20261101T090000
END:STANDARD
END:VTIMEZONE
BEGIN:VEVENT
DTSTART;TZID=America/Vancouver:20250707T170000
DTEND;TZID=America/Vancouver:20250707T190000
DTSTAMP:20260420T004841
CREATED:20250520T205834Z
LAST-MODIFIED:20250520T205834Z
UID:13452-1751907600-1751914800@www.cinecenta.com
SUMMARY:Pride & Prejudice
DESCRIPTION:
URL:https://www.cinecenta.com/calendar/pride-prejudice/2025-07-07/
LOCATION:Cinecenta
ATTACH;FMTTYPE=image/jpeg:https://www.cinecenta.com/wp-content/uploads/2025/05/Pride-and-Prejudice-2005-Cast-Where-Are-They-Now-Feature-e1747774490282.jpg
END:VEVENT
BEGIN:VEVENT
DTSTART;TZID=America/Vancouver:20250707T193000
DTEND;TZID=America/Vancouver:20250707T213000
DTSTAMP:20260420T004841
CREATED:20250520T205834Z
LAST-MODIFIED:20250520T205834Z
UID:13453-1751916600-1751923800@www.cinecenta.com
SUMMARY:Pride & Prejudice
DESCRIPTION:
URL:https://www.cinecenta.com/calendar/pride-prejudice/2025-07-07/3/
LOCATION:Cinecenta
ATTACH;FMTTYPE=image/jpeg:https://www.cinecenta.com/wp-content/uploads/2025/05/Pride-and-Prejudice-2005-Cast-Where-Are-They-Now-Feature-e1747774490282.jpg
END:VEVENT
BEGIN:VEVENT
DTSTART;TZID=America/Vancouver:20250708T170000
DTEND;TZID=America/Vancouver:20250708T184500
DTSTAMP:20260420T004841
CREATED:20250516T175811Z
LAST-MODIFIED:20250516T175811Z
UID:13361-1751994000-1752000300@www.cinecenta.com
SUMMARY:Labyrinth
DESCRIPTION:
URL:https://www.cinecenta.com/calendar/labyrinth-2/2025-07-08/
LOCATION:Cinecenta
ATTACH;FMTTYPE=image/jpeg:https://www.cinecenta.com/wp-content/uploads/2022/10/Labyrinth-1.jpeg
END:VEVENT
BEGIN:VEVENT
DTSTART;TZID=America/Vancouver:20250708T190000
DTEND;TZID=America/Vancouver:20250708T210000
DTSTAMP:20260420T004841
CREATED:20250516T201012Z
LAST-MODIFIED:20250516T201117Z
UID:13366-1752001200-1752008400@www.cinecenta.com
SUMMARY:Moonage Daydream
DESCRIPTION:
URL:https://www.cinecenta.com/calendar/moonage-daydream-2/2025-07-08/
LOCATION:Cinecenta
ATTACH;FMTTYPE=image/jpeg:https://www.cinecenta.com/wp-content/uploads/2022/10/Moonage-2.jpeg
END:VEVENT
BEGIN:VEVENT
DTSTART;TZID=America/Vancouver:20250709T170000
DTEND;TZID=America/Vancouver:20250709T184500
DTSTAMP:20260420T004841
CREATED:20250516T175811Z
LAST-MODIFIED:20250516T175811Z
UID:13362-1752080400-1752086700@www.cinecenta.com
SUMMARY:Labyrinth
DESCRIPTION:
URL:https://www.cinecenta.com/calendar/labyrinth-2/2025-07-09/
LOCATION:Cinecenta
ATTACH;FMTTYPE=image/jpeg:https://www.cinecenta.com/wp-content/uploads/2022/10/Labyrinth-1.jpeg
END:VEVENT
BEGIN:VEVENT
DTSTART;TZID=America/Vancouver:20250709T190000
DTEND;TZID=America/Vancouver:20250709T210000
DTSTAMP:20260420T004841
CREATED:20250516T201012Z
LAST-MODIFIED:20250516T201012Z
UID:13370-1752087600-1752094800@www.cinecenta.com
SUMMARY:Moonage Daydream
DESCRIPTION:
URL:https://www.cinecenta.com/calendar/moonage-daydream-2/2025-07-09/
LOCATION:Cinecenta
ATTACH;FMTTYPE=image/jpeg:https://www.cinecenta.com/wp-content/uploads/2022/10/Moonage-2.jpeg
END:VEVENT
BEGIN:VEVENT
DTSTART;TZID=America/Vancouver:20250710T190000
DTEND;TZID=America/Vancouver:20250710T210000
DTSTAMP:20260420T004841
CREATED:20250520T211504Z
LAST-MODIFIED:20250520T211504Z
UID:13456-1752174000-1752181200@www.cinecenta.com
SUMMARY:Indigenous Short Film Series w/ Richard Van Camp
DESCRIPTION:
URL:https://www.cinecenta.com/calendar/indigenous-short-film-series-w-richard-van-camp/
LOCATION:Cinecenta
ATTACH;FMTTYPE=image/jpeg:https://www.cinecenta.com/wp-content/uploads/2025/05/475171887_1108361491302550_3927597824905946959_n.jpg
END:VEVENT
BEGIN:VEVENT
DTSTART;TZID=America/Vancouver:20250711T170000
DTEND;TZID=America/Vancouver:20250711T183000
DTSTAMP:20260420T004841
CREATED:20250520T212950Z
LAST-MODIFIED:20250711T180840Z
UID:13463-1752253200-1752258600@www.cinecenta.com
SUMMARY:Materialists
DESCRIPTION:﻿﻿
URL:https://www.cinecenta.com/calendar/materialists/2025-07-11/
ATTACH;FMTTYPE=image/jpeg:https://www.cinecenta.com/wp-content/uploads/2025/05/Chris-Evans-and-Pedro-Pascal-Both-Vie-to-Win-Dakota-Johnson-s-Heart-in-The-Materialists-Trailer-404.jpg
END:VEVENT
BEGIN:VEVENT
DTSTART;TZID=America/Vancouver:20250711T191000
DTEND;TZID=America/Vancouver:20250711T210000
DTSTAMP:20260420T004841
CREATED:20250520T212950Z
LAST-MODIFIED:20250711T180840Z
UID:13469-1752261000-1752267600@www.cinecenta.com
SUMMARY:Materialists
DESCRIPTION:﻿﻿
URL:https://www.cinecenta.com/calendar/materialists/2025-07-11/2/
ATTACH;FMTTYPE=image/jpeg:https://www.cinecenta.com/wp-content/uploads/2025/05/Chris-Evans-and-Pedro-Pascal-Both-Vie-to-Win-Dakota-Johnson-s-Heart-in-The-Materialists-Trailer-404.jpg
END:VEVENT
BEGIN:VEVENT
DTSTART;TZID=America/Vancouver:20250712T170000
DTEND;TZID=America/Vancouver:20250712T183000
DTSTAMP:20260420T004841
CREATED:20250520T212950Z
LAST-MODIFIED:20250711T180841Z
UID:13470-1752339600-1752345000@www.cinecenta.com
SUMMARY:Materialists
DESCRIPTION:﻿﻿
URL:https://www.cinecenta.com/calendar/materialists/2025-07-12/
ATTACH;FMTTYPE=image/jpeg:https://www.cinecenta.com/wp-content/uploads/2025/05/Chris-Evans-and-Pedro-Pascal-Both-Vie-to-Win-Dakota-Johnson-s-Heart-in-The-Materialists-Trailer-404.jpg
END:VEVENT
BEGIN:VEVENT
DTSTART;TZID=America/Vancouver:20250712T191000
DTEND;TZID=America/Vancouver:20250712T170000
DTSTAMP:20260420T004841
CREATED:20250520T212950Z
LAST-MODIFIED:20250711T180841Z
UID:13471-1752347400-1752339600@www.cinecenta.com
SUMMARY:Materialists
DESCRIPTION:﻿﻿
URL:https://www.cinecenta.com/calendar/materialists/2025-07-12/3/
ATTACH;FMTTYPE=image/jpeg:https://www.cinecenta.com/wp-content/uploads/2025/05/Chris-Evans-and-Pedro-Pascal-Both-Vie-to-Win-Dakota-Johnson-s-Heart-in-The-Materialists-Trailer-404.jpg
END:VEVENT
BEGIN:VEVENT
DTSTART;TZID=America/Vancouver:20250713T170000
DTEND;TZID=America/Vancouver:20250713T183000
DTSTAMP:20260420T004841
CREATED:20250520T220205Z
LAST-MODIFIED:20250520T220205Z
UID:13474-1752426000-1752431400@www.cinecenta.com
SUMMARY:Paddington in Peru
DESCRIPTION:
URL:https://www.cinecenta.com/calendar/paddington-in-peru/2025-07-13/
LOCATION:Cinecenta
ATTACH;FMTTYPE=image/jpeg:https://www.cinecenta.com/wp-content/uploads/2025/05/Paddington-in-Peru-Featured.jpg
END:VEVENT
BEGIN:VEVENT
DTSTART;TZID=America/Vancouver:20250713T191000
DTEND;TZID=America/Vancouver:20250713T203000
DTSTAMP:20260420T004841
CREATED:20250520T220806Z
LAST-MODIFIED:20250520T220806Z
UID:13484-1752433800-1752438600@www.cinecenta.com
SUMMARY:E.1027 - Eileen Gray and the House by the Sea
DESCRIPTION:
URL:https://www.cinecenta.com/calendar/e-1027-eileen-gray-and-the-house-by-the-sea-2/2025-07-13/
LOCATION:Cinecenta
ATTACH;FMTTYPE=image/jpeg:https://www.cinecenta.com/wp-content/uploads/2025/03/Sans-titre-11.jpg
END:VEVENT
BEGIN:VEVENT
DTSTART;TZID=America/Vancouver:20250714T170000
DTEND;TZID=America/Vancouver:20250714T183000
DTSTAMP:20260420T004841
CREATED:20250520T220205Z
LAST-MODIFIED:20250520T220205Z
UID:13480-1752512400-1752517800@www.cinecenta.com
SUMMARY:Paddington in Peru
DESCRIPTION:
URL:https://www.cinecenta.com/calendar/paddington-in-peru/2025-07-14/
LOCATION:Cinecenta
ATTACH;FMTTYPE=image/jpeg:https://www.cinecenta.com/wp-content/uploads/2025/05/Paddington-in-Peru-Featured.jpg
END:VEVENT
BEGIN:VEVENT
DTSTART;TZID=America/Vancouver:20250714T191000
DTEND;TZID=America/Vancouver:20250714T203000
DTSTAMP:20260420T004841
CREATED:20250520T220806Z
LAST-MODIFIED:20250520T220806Z
UID:13485-1752520200-1752525000@www.cinecenta.com
SUMMARY:E.1027 - Eileen Gray and the House by the Sea
DESCRIPTION:
URL:https://www.cinecenta.com/calendar/e-1027-eileen-gray-and-the-house-by-the-sea-2/2025-07-14/
LOCATION:Cinecenta
ATTACH;FMTTYPE=image/jpeg:https://www.cinecenta.com/wp-content/uploads/2025/03/Sans-titre-11.jpg
END:VEVENT
BEGIN:VEVENT
DTSTART;TZID=America/Vancouver:20250715T170000
DTEND;TZID=America/Vancouver:20250715T190000
DTSTAMP:20260420T004841
CREATED:20250520T224004Z
LAST-MODIFIED:20250530T180341Z
UID:13488-1752598800-1752606000@www.cinecenta.com
SUMMARY:Merry Christmas Mr. Lawrence
DESCRIPTION:
URL:https://www.cinecenta.com/calendar/merry-christmas-mr-lawrence/2025-07-15/
LOCATION:Cinecenta
ATTACH;FMTTYPE=image/jpeg:https://www.cinecenta.com/wp-content/uploads/2025/05/download.jpg
END:VEVENT
BEGIN:VEVENT
DTSTART;TZID=America/Vancouver:20250715T192000
DTEND;TZID=America/Vancouver:20250715T213000
DTSTAMP:20260420T004841
CREATED:20250520T224004Z
LAST-MODIFIED:20250530T180341Z
UID:13494-1752607200-1752615000@www.cinecenta.com
SUMMARY:Merry Christmas Mr. Lawrence
DESCRIPTION:
URL:https://www.cinecenta.com/calendar/merry-christmas-mr-lawrence/2025-07-15/
LOCATION:Cinecenta
ATTACH;FMTTYPE=image/jpeg:https://www.cinecenta.com/wp-content/uploads/2025/05/download.jpg
END:VEVENT
BEGIN:VEVENT
DTSTART;TZID=America/Vancouver:20250716T170000
DTEND;TZID=America/Vancouver:20250716T183000
DTSTAMP:20260420T004841
CREATED:20250520T225302Z
LAST-MODIFIED:20250520T225302Z
UID:13498-1752685200-1752690600@www.cinecenta.com
SUMMARY:Friendship
DESCRIPTION:
URL:https://www.cinecenta.com/calendar/friendship/2025-07-16/
LOCATION:Cinecenta
ATTACH;FMTTYPE=image/jpeg:https://www.cinecenta.com/wp-content/uploads/2025/05/75df5b1e-9905-f011-82a4-0e4a64f8a357_FRIENDSHIP_05_lg-e1747780998732.jpg
END:VEVENT
BEGIN:VEVENT
DTSTART;TZID=America/Vancouver:20250716T190000
DTEND;TZID=America/Vancouver:20250716T213000
DTSTAMP:20260420T004841
CREATED:20250520T225302Z
LAST-MODIFIED:20250520T225302Z
UID:13503-1752692400-1752701400@www.cinecenta.com
SUMMARY:Friendship
DESCRIPTION:
URL:https://www.cinecenta.com/calendar/friendship/2025-07-16/2/
LOCATION:Cinecenta
ATTACH;FMTTYPE=image/jpeg:https://www.cinecenta.com/wp-content/uploads/2025/05/75df5b1e-9905-f011-82a4-0e4a64f8a357_FRIENDSHIP_05_lg-e1747780998732.jpg
END:VEVENT
BEGIN:VEVENT
DTSTART;TZID=America/Vancouver:20250717T170000
DTEND;TZID=America/Vancouver:20250717T183000
DTSTAMP:20260420T004841
CREATED:20250520T225302Z
LAST-MODIFIED:20250520T225302Z
UID:13504-1752771600-1752777000@www.cinecenta.com
SUMMARY:Friendship
DESCRIPTION:
URL:https://www.cinecenta.com/calendar/friendship/2025-07-17/
LOCATION:Cinecenta
ATTACH;FMTTYPE=image/jpeg:https://www.cinecenta.com/wp-content/uploads/2025/05/75df5b1e-9905-f011-82a4-0e4a64f8a357_FRIENDSHIP_05_lg-e1747780998732.jpg
END:VEVENT
BEGIN:VEVENT
DTSTART;TZID=America/Vancouver:20250717T190000
DTEND;TZID=America/Vancouver:20250717T203000
DTSTAMP:20260420T004841
CREATED:20250520T225302Z
LAST-MODIFIED:20250520T225302Z
UID:13505-1752778800-1752784200@www.cinecenta.com
SUMMARY:Friendship
DESCRIPTION:
URL:https://www.cinecenta.com/calendar/friendship/2025-07-17/3/
LOCATION:Cinecenta
ATTACH;FMTTYPE=image/jpeg:https://www.cinecenta.com/wp-content/uploads/2025/05/75df5b1e-9905-f011-82a4-0e4a64f8a357_FRIENDSHIP_05_lg-e1747780998732.jpg
END:VEVENT
BEGIN:VEVENT
DTSTART;TZID=America/Vancouver:20250718T170000
DTEND;TZID=America/Vancouver:20250718T183000
DTSTAMP:20260420T004841
CREATED:20250520T230555Z
LAST-MODIFIED:20250520T230555Z
UID:13508-1752858000-1752863400@www.cinecenta.com
SUMMARY:Cloud
DESCRIPTION:
URL:https://www.cinecenta.com/calendar/cloud/2025-07-18/
LOCATION:Cinecenta
ATTACH;FMTTYPE=image/jpeg:https://www.cinecenta.com/wp-content/uploads/2025/05/93060-CLOUD_-_Actor_Masaki_Suda__1_-H-2024.jpg
END:VEVENT
BEGIN:VEVENT
DTSTART;TZID=America/Vancouver:20250718T192000
DTEND;TZID=America/Vancouver:20250718T220000
DTSTAMP:20260420T004841
CREATED:20250520T230555Z
LAST-MODIFIED:20250520T230555Z
UID:13514-1752866400-1752876000@www.cinecenta.com
SUMMARY:Cloud
DESCRIPTION:
URL:https://www.cinecenta.com/calendar/cloud/2025-07-18/2/
LOCATION:Cinecenta
ATTACH;FMTTYPE=image/jpeg:https://www.cinecenta.com/wp-content/uploads/2025/05/93060-CLOUD_-_Actor_Masaki_Suda__1_-H-2024.jpg
END:VEVENT
BEGIN:VEVENT
DTSTART;TZID=America/Vancouver:20250719T170000
DTEND;TZID=America/Vancouver:20250719T183000
DTSTAMP:20260420T004841
CREATED:20250520T230555Z
LAST-MODIFIED:20250520T230555Z
UID:13515-1752944400-1752949800@www.cinecenta.com
SUMMARY:Cloud
DESCRIPTION:
URL:https://www.cinecenta.com/calendar/cloud/2025-07-19/
LOCATION:Cinecenta
ATTACH;FMTTYPE=image/jpeg:https://www.cinecenta.com/wp-content/uploads/2025/05/93060-CLOUD_-_Actor_Masaki_Suda__1_-H-2024.jpg
END:VEVENT
BEGIN:VEVENT
DTSTART;TZID=America/Vancouver:20250719T192000
DTEND;TZID=America/Vancouver:20250719T213000
DTSTAMP:20260420T004841
CREATED:20250520T230555Z
LAST-MODIFIED:20250520T230555Z
UID:13516-1752952800-1752960600@www.cinecenta.com
SUMMARY:Cloud
DESCRIPTION:
URL:https://www.cinecenta.com/calendar/cloud/2025-07-19/3/
LOCATION:Cinecenta
ATTACH;FMTTYPE=image/jpeg:https://www.cinecenta.com/wp-content/uploads/2025/05/93060-CLOUD_-_Actor_Masaki_Suda__1_-H-2024.jpg
END:VEVENT
BEGIN:VEVENT
DTSTART;TZID=America/Vancouver:20250720T153000
DTEND;TZID=America/Vancouver:20250720T173000
DTSTAMP:20260420T004841
CREATED:20250702T165203Z
LAST-MODIFIED:20250702T191748Z
UID:13622-1753025400-1753032600@www.cinecenta.com
SUMMARY:Golden Age Comedy Shorts w/ Bruce Vogt
DESCRIPTION:Bruce Vogt will introduce each film and improvise piano accompaniments to four silent era comedy classics: Charlie Chaplin’s THE ADVENTURER\, Buster Keaton’s COPS\, Harold Lloyd’s NEVER WEAKEN\, and Laurel & Hardy’s THE BATTLE OF THE CENTURY
URL:https://www.cinecenta.com/calendar/not-so-silent-golden-age-of-comedy-shorts-w-bruce-vogt/
ATTACH;FMTTYPE=image/jpeg:https://www.cinecenta.com/wp-content/uploads/2025/07/tumblr_otwv4frSf81v928pmo2_1280-e1751474468982.jpg
END:VEVENT
BEGIN:VEVENT
DTSTART;TZID=America/Vancouver:20250720T190000
DTEND;TZID=America/Vancouver:20250720T203000
DTSTAMP:20260420T004841
CREATED:20250702T170820Z
LAST-MODIFIED:20250702T191921Z
UID:13631-1753038000-1753043400@www.cinecenta.com
SUMMARY:The Winning of Barbara Worth w/ Bruce Vogt
DESCRIPTION:
URL:https://www.cinecenta.com/calendar/the-winning-of-barbara-worth-w-bruce-vogt/
ATTACH;FMTTYPE=image/jpeg:https://www.cinecenta.com/wp-content/uploads/2025/07/Barbara-Worth-e1751475814332.jpg
END:VEVENT
BEGIN:VEVENT
DTSTART;TZID=America/Vancouver:20250721T170000
DTEND;TZID=America/Vancouver:20250721T183000
DTSTAMP:20260420T004841
CREATED:20250711T214817Z
LAST-MODIFIED:20250711T214817Z
UID:13666-1753117200-1753122600@www.cinecenta.com
SUMMARY:Endless Cookie
DESCRIPTION:
URL:https://www.cinecenta.com/calendar/endless-cookie/2025-07-21/
LOCATION:Cinecenta
ATTACH;FMTTYPE=image/jpeg:https://www.cinecenta.com/wp-content/uploads/2025/07/Endless_Cookie_Still-1_99920dd0-7603-f011-ba5b-0efdbb9167fd-e1752270056967.jpg
END:VEVENT
BEGIN:VEVENT
DTSTART;TZID=America/Vancouver:20250721T190000
DTEND;TZID=America/Vancouver:20250721T203000
DTSTAMP:20260420T004841
CREATED:20250711T214817Z
LAST-MODIFIED:20250711T214817Z
UID:13671-1753124400-1753129800@www.cinecenta.com
SUMMARY:Endless Cookie
DESCRIPTION:
URL:https://www.cinecenta.com/calendar/endless-cookie/2025-07-21/2/
LOCATION:Cinecenta
ATTACH;FMTTYPE=image/jpeg:https://www.cinecenta.com/wp-content/uploads/2025/07/Endless_Cookie_Still-1_99920dd0-7603-f011-ba5b-0efdbb9167fd-e1752270056967.jpg
END:VEVENT
BEGIN:VEVENT
DTSTART;TZID=America/Vancouver:20250722T170000
DTEND;TZID=America/Vancouver:20250722T183000
DTSTAMP:20260420T004841
CREATED:20250711T214817Z
LAST-MODIFIED:20250711T214817Z
UID:13672-1753203600-1753209000@www.cinecenta.com
SUMMARY:Endless Cookie
DESCRIPTION:
URL:https://www.cinecenta.com/calendar/endless-cookie/2025-07-22/
LOCATION:Cinecenta
ATTACH;FMTTYPE=image/jpeg:https://www.cinecenta.com/wp-content/uploads/2025/07/Endless_Cookie_Still-1_99920dd0-7603-f011-ba5b-0efdbb9167fd-e1752270056967.jpg
END:VEVENT
END:VCALENDAR