BEGIN:VCALENDAR
VERSION:2.0
PRODID:-//Cinecenta - ECPv6.15.19//NONSGML v1.0//EN
CALSCALE:GREGORIAN
METHOD:PUBLISH
X-WR-CALNAME:Cinecenta
X-ORIGINAL-URL:https://www.cinecenta.com
X-WR-CALDESC:Events for Cinecenta
REFRESH-INTERVAL;VALUE=DURATION:PT1H
X-Robots-Tag:noindex
X-PUBLISHED-TTL:PT1H
BEGIN:VTIMEZONE
TZID:America/Vancouver
BEGIN:DAYLIGHT
TZOFFSETFROM:-0800
TZOFFSETTO:-0700
TZNAME:PDT
DTSTART:20200308T100000
END:DAYLIGHT
BEGIN:STANDARD
TZOFFSETFROM:-0700
TZOFFSETTO:-0800
TZNAME:PST
DTSTART:20201101T090000
END:STANDARD
BEGIN:DAYLIGHT
TZOFFSETFROM:-0800
TZOFFSETTO:-0700
TZNAME:PDT
DTSTART:20210314T100000
END:DAYLIGHT
BEGIN:STANDARD
TZOFFSETFROM:-0700
TZOFFSETTO:-0800
TZNAME:PST
DTSTART:20211107T090000
END:STANDARD
BEGIN:DAYLIGHT
TZOFFSETFROM:-0800
TZOFFSETTO:-0700
TZNAME:PDT
DTSTART:20220313T100000
END:DAYLIGHT
BEGIN:STANDARD
TZOFFSETFROM:-0700
TZOFFSETTO:-0800
TZNAME:PST
DTSTART:20221106T090000
END:STANDARD
END:VTIMEZONE
BEGIN:VEVENT
DTSTART;TZID=America/Vancouver:20211215T170000
DTEND;TZID=America/Vancouver:20211215T190000
DTSTAMP:20260419T205329
CREATED:20211124T193615Z
LAST-MODIFIED:20211124T233503Z
UID:917-1639587600-1639594800@www.cinecenta.com
SUMMARY:McCabe & Mrs. Miller
DESCRIPTION:
URL:https://www.cinecenta.com/calendar/mccabe-mrs-miller/2021-12-15/
LOCATION:Cinecenta
END:VEVENT
BEGIN:VEVENT
DTSTART;TZID=America/Vancouver:20211213T170000
DTEND;TZID=America/Vancouver:20211213T184000
DTSTAMP:20260419T205329
CREATED:20211124T221755Z
LAST-MODIFIED:20211124T233625Z
UID:926-1639414800-1639420800@www.cinecenta.com
SUMMARY:Walkabout
DESCRIPTION:
URL:https://www.cinecenta.com/calendar/walkabout/2021-12-13/
LOCATION:Cinecenta
END:VEVENT
BEGIN:VEVENT
DTSTART;TZID=America/Vancouver:20211210T164500
DTEND;TZID=America/Vancouver:20211210T190000
DTSTAMP:20260419T205329
CREATED:20211125T000546Z
LAST-MODIFIED:20211125T003222Z
UID:974-1639154700-1639162800@www.cinecenta.com
SUMMARY:Benedetta
DESCRIPTION:
URL:https://www.cinecenta.com/calendar/benedetta/2021-12-10/
LOCATION:Cinecenta
END:VEVENT
BEGIN:VEVENT
DTSTART;TZID=America/Vancouver:20211208T170000
DTEND;TZID=America/Vancouver:20211208T185000
DTSTAMP:20260419T205329
CREATED:20211125T001848Z
LAST-MODIFIED:20211125T001848Z
UID:987-1638982800-1638989400@www.cinecenta.com
SUMMARY:The Rescue
DESCRIPTION:
URL:https://www.cinecenta.com/calendar/the-rescue/2021-12-08/
LOCATION:Cinecenta
END:VEVENT
BEGIN:VEVENT
DTSTART;TZID=America/Vancouver:20211206T170000
DTEND;TZID=America/Vancouver:20211206T190000
DTSTAMP:20260419T205329
CREATED:20211125T003041Z
LAST-MODIFIED:20211125T003041Z
UID:997-1638810000-1638817200@www.cinecenta.com
SUMMARY:Klute
DESCRIPTION:
URL:https://www.cinecenta.com/calendar/klute/2021-12-06/
LOCATION:Cinecenta
END:VEVENT
BEGIN:VEVENT
DTSTART;TZID=America/Vancouver:20211205T144500
DTEND;TZID=America/Vancouver:20211205T155000
DTSTAMP:20260419T205329
CREATED:20211125T004830Z
LAST-MODIFIED:20211125T004830Z
UID:1014-1638715500-1638719400@www.cinecenta.com
SUMMARY:The Last Picture Show
DESCRIPTION:
URL:https://www.cinecenta.com/calendar/the-last-picture-show/2021-12-05/
LOCATION:Cinecenta
END:VEVENT
BEGIN:VEVENT
DTSTART;TZID=America/Vancouver:20211204T144500
DTEND;TZID=America/Vancouver:20211204T165000
DTSTAMP:20260419T205329
CREATED:20211125T005832Z
LAST-MODIFIED:20211125T005832Z
UID:1023-1638629100-1638636600@www.cinecenta.com
SUMMARY:Wife of a Spy
DESCRIPTION:
URL:https://www.cinecenta.com/calendar/wife-of-a-spy/2021-12-04/
LOCATION:Cinecenta
END:VEVENT
BEGIN:VEVENT
DTSTART;TZID=America/Vancouver:20211120T190000
DTEND;TZID=America/Vancouver:20211120T213000
DTSTAMP:20260419T205329
CREATED:20210604T173800Z
LAST-MODIFIED:20211109T003114Z
UID:341-1637434800-1637443800@www.cinecenta.com
SUMMARY:A QUIET PLACE
DESCRIPTION:
URL:https://www.cinecenta.com/calendar/a-quiet-place/
CATEGORIES:Film,Kid's Matinees
END:VEVENT
BEGIN:VEVENT
DTSTART;TZID=America/Vancouver:20211001T170000
DTEND;TZID=America/Vancouver:20211001T185000
DTSTAMP:20260419T205329
CREATED:20210714T205237Z
LAST-MODIFIED:20210924T173042Z
UID:375-1633107600-1633114200@www.cinecenta.com
SUMMARY:A Quiet Place Part II
DESCRIPTION:filler text\, filler textttttttttttttttttttttttttttttttttttttttttt
URL:https://www.cinecenta.com/calendar/a-quiet-place-part-ii/
LOCATION:Cinecenta
CATEGORIES:Film
END:VEVENT
END:VCALENDAR