BEGIN:VCALENDAR
VERSION:2.0
PRODID:-//Cinecenta - ECPv6.15.19//NONSGML v1.0//EN
CALSCALE:GREGORIAN
METHOD:PUBLISH
X-WR-CALNAME:Cinecenta
X-ORIGINAL-URL:https://www.cinecenta.com
X-WR-CALDESC:Events for Cinecenta
REFRESH-INTERVAL;VALUE=DURATION:PT1H
X-Robots-Tag:noindex
X-PUBLISHED-TTL:PT1H
BEGIN:VTIMEZONE
TZID:America/Vancouver
BEGIN:DAYLIGHT
TZOFFSETFROM:-0800
TZOFFSETTO:-0700
TZNAME:PDT
DTSTART:20210314T100000
END:DAYLIGHT
BEGIN:STANDARD
TZOFFSETFROM:-0700
TZOFFSETTO:-0800
TZNAME:PST
DTSTART:20211107T090000
END:STANDARD
BEGIN:DAYLIGHT
TZOFFSETFROM:-0800
TZOFFSETTO:-0700
TZNAME:PDT
DTSTART:20220313T100000
END:DAYLIGHT
BEGIN:STANDARD
TZOFFSETFROM:-0700
TZOFFSETTO:-0800
TZNAME:PST
DTSTART:20221106T090000
END:STANDARD
BEGIN:DAYLIGHT
TZOFFSETFROM:-0800
TZOFFSETTO:-0700
TZNAME:PDT
DTSTART:20230312T100000
END:DAYLIGHT
BEGIN:STANDARD
TZOFFSETFROM:-0700
TZOFFSETTO:-0800
TZNAME:PST
DTSTART:20231105T090000
END:STANDARD
END:VTIMEZONE
BEGIN:VEVENT
DTSTART;TZID=America/Vancouver:20220330T170000
DTEND;TZID=America/Vancouver:20220330T183000
DTSTAMP:20260419T214217
CREATED:20220210T011307Z
LAST-MODIFIED:20220218T224213Z
UID:1913-1648659600-1648665000@www.cinecenta.com
SUMMARY:Flee
DESCRIPTION:
URL:https://www.cinecenta.com/calendar/flee-2/2022-03-30/
LOCATION:Cinecenta
ATTACH;FMTTYPE=image/jpeg:https://www.cinecenta.com/wp-content/uploads/2021/12/Rflee-1-e1645224068802.jpg
END:VEVENT
BEGIN:VEVENT
DTSTART;TZID=America/Vancouver:20220329T170000
DTEND;TZID=America/Vancouver:20220329T191500
DTSTAMP:20260419T214217
CREATED:20220210T010157Z
LAST-MODIFIED:20240715T221408Z
UID:1909-1648573200-1648581300@www.cinecenta.com
SUMMARY:Twin Peaks: Fire Walk with Me
DESCRIPTION:
URL:https://www.cinecenta.com/calendar/twin-peaks-fire-walk-with-me/2022-03-29/
LOCATION:Cinecenta
ATTACH;FMTTYPE=image/jpeg:https://www.cinecenta.com/wp-content/uploads/2022/02/Twin-Peaks.jpeg
END:VEVENT
BEGIN:VEVENT
DTSTART;TZID=America/Vancouver:20220327T150000
DTEND;TZID=America/Vancouver:20220327T173000
DTSTAMP:20260419T214217
CREATED:20220210T005553Z
LAST-MODIFIED:20220210T222136Z
UID:1903-1648393200-1648402200@www.cinecenta.com
SUMMARY:Don't Look Up
DESCRIPTION:
URL:https://www.cinecenta.com/calendar/dont-look-up/2022-03-27/
LOCATION:Cinecenta
END:VEVENT
BEGIN:VEVENT
DTSTART;TZID=America/Vancouver:20220322T170000
DTEND;TZID=America/Vancouver:20220322T183000
DTSTAMP:20260419T214217
CREATED:20220210T002738Z
LAST-MODIFIED:20220210T220131Z
UID:1879-1647968400-1647973800@www.cinecenta.com
SUMMARY:The Short Films of David Lynch
DESCRIPTION:
URL:https://www.cinecenta.com/calendar/the-short-films-of-david-lynch/2022-03-22/
LOCATION:Cinecenta
END:VEVENT
BEGIN:VEVENT
DTSTART;TZID=America/Vancouver:20220320T143000
DTEND;TZID=America/Vancouver:20220320T164000
DTSTAMP:20260419T214217
CREATED:20220210T002056Z
LAST-MODIFIED:20220210T214907Z
UID:1846-1647786600-1647794400@www.cinecenta.com
SUMMARY:The Lost Daughter
DESCRIPTION:
URL:https://www.cinecenta.com/calendar/the-lost-daughter/2022-03-20/
LOCATION:Cinecenta
END:VEVENT
BEGIN:VEVENT
DTSTART;TZID=America/Vancouver:20220317T170000
DTEND;TZID=America/Vancouver:20220317T181500
DTSTAMP:20260419T214217
CREATED:20220209T234945Z
LAST-MODIFIED:20230215T180342Z
UID:1833-1647536400-1647540900@www.cinecenta.com
SUMMARY:Framing Agnes
DESCRIPTION:
URL:https://www.cinecenta.com/calendar/framing-agnes/2022-03-17/
LOCATION:Cinecenta
ATTACH;FMTTYPE=image/jpeg:https://www.cinecenta.com/wp-content/uploads/2022/02/FramingAgnes_Still_0cc43d9a-0324-ed11-a9de-0edcbcd33718.jpg
END:VEVENT
BEGIN:VEVENT
DTSTART;TZID=America/Vancouver:20220316T170000
DTEND;TZID=America/Vancouver:20220316T183000
DTSTAMP:20260419T214217
CREATED:20220209T234355Z
LAST-MODIFIED:20220210T212712Z
UID:1829-1647450000-1647455400@www.cinecenta.com
SUMMARY:Eraserhead
DESCRIPTION:
URL:https://www.cinecenta.com/calendar/eraserhead/2022-03-16/
LOCATION:Cinecenta
END:VEVENT
BEGIN:VEVENT
DTSTART;TZID=America/Vancouver:20220315T173000
DTEND;TZID=America/Vancouver:20220315T183000
DTSTAMP:20260419T214217
CREATED:20220209T233719Z
LAST-MODIFIED:20220210T212206Z
UID:1825-1647365400-1647369000@www.cinecenta.com
SUMMARY:In Search of Professor Precarious
DESCRIPTION:
URL:https://www.cinecenta.com/calendar/in-search-of-professor-precarious/2022-03-15/
LOCATION:Cinecenta
END:VEVENT
BEGIN:VEVENT
DTSTART;TZID=America/Vancouver:20220312T153000
DTEND;TZID=America/Vancouver:20220312T180000
DTSTAMP:20260419T214217
CREATED:20220209T212440Z
LAST-MODIFIED:20220210T203013Z
UID:1807-1647099000-1647108000@www.cinecenta.com
SUMMARY:West Side Story (1961)
DESCRIPTION:
URL:https://www.cinecenta.com/calendar/west-side-story/2022-03-12/
LOCATION:Cinecenta
END:VEVENT
BEGIN:VEVENT
DTSTART;TZID=America/Vancouver:20220311T150000
DTEND;TZID=America/Vancouver:20220311T164500
DTSTAMP:20260419T214217
CREATED:20220209T211554Z
LAST-MODIFIED:20220309T233340Z
UID:1803-1647010800-1647017100@www.cinecenta.com
SUMMARY:Tzouhalem
DESCRIPTION:
URL:https://www.cinecenta.com/calendar/tzouhalem/2022-03-11/
LOCATION:Cinecenta
END:VEVENT
BEGIN:VEVENT
DTSTART;TZID=America/Vancouver:20220309T170000
DTEND;TZID=America/Vancouver:20220309T184000
DTSTAMP:20260419T214217
CREATED:20220209T210842Z
LAST-MODIFIED:20220210T201738Z
UID:1797-1646845200-1646851200@www.cinecenta.com
SUMMARY:Writing with Fire
DESCRIPTION:
URL:https://www.cinecenta.com/calendar/writing-with-fire/2022-03-09/
LOCATION:Cinecenta
END:VEVENT
BEGIN:VEVENT
DTSTART;TZID=America/Vancouver:20220308T170000
DTEND;TZID=America/Vancouver:20220308T184500
DTSTAMP:20260419T214217
CREATED:20220209T203832Z
LAST-MODIFIED:20220210T211634Z
UID:1793-1646758800-1646765100@www.cinecenta.com
SUMMARY:Made in Bangladesh
DESCRIPTION:
URL:https://www.cinecenta.com/calendar/made-in-bangladesh/2022-03-08/
LOCATION:Cinecenta
END:VEVENT
BEGIN:VEVENT
DTSTART;TZID=America/Vancouver:20220302T170000
DTEND;TZID=America/Vancouver:20220302T190000
DTSTAMP:20260419T214217
CREATED:20220209T201450Z
LAST-MODIFIED:20220210T211157Z
UID:1770-1646240400-1646247600@www.cinecenta.com
SUMMARY:Faya Dayi
DESCRIPTION:
URL:https://www.cinecenta.com/calendar/faya-dayi/2022-03-02/
LOCATION:Cinecenta
END:VEVENT
BEGIN:VEVENT
DTSTART;TZID=America/Vancouver:20220301T170000
DTEND;TZID=America/Vancouver:20220301T190500
DTSTAMP:20260419T214217
CREATED:20220209T200750Z
LAST-MODIFIED:20220210T211356Z
UID:1766-1646154000-1646161500@www.cinecenta.com
SUMMARY:Pride
DESCRIPTION:
URL:https://www.cinecenta.com/calendar/pride/2022-03-01/
LOCATION:Cinecenta
END:VEVENT
BEGIN:VEVENT
DTSTART;TZID=America/Vancouver:20220227T144500
DTEND;TZID=America/Vancouver:20220227T164500
DTSTAMP:20260419T214217
CREATED:20211221T054123Z
LAST-MODIFIED:20220210T211111Z
UID:1267-1645973100-1645980300@www.cinecenta.com
SUMMARY:Spencer
DESCRIPTION:
URL:https://www.cinecenta.com/calendar/spencer/2022-02-27/
LOCATION:Cinecenta
END:VEVENT
BEGIN:VEVENT
DTSTART;TZID=America/Vancouver:20220223T164500
DTEND;TZID=America/Vancouver:20220223T193000
DTSTAMP:20260419T214217
CREATED:20211221T072108Z
LAST-MODIFIED:20220210T211023Z
UID:1287-1645634700-1645644600@www.cinecenta.com
SUMMARY:Dune
DESCRIPTION:
URL:https://www.cinecenta.com/calendar/dune/2022-02-23/
LOCATION:Cinecenta
END:VEVENT
BEGIN:VEVENT
DTSTART;TZID=America/Vancouver:20220222T170000
DTEND;TZID=America/Vancouver:20220222T190000
DTSTAMP:20260419T214217
CREATED:20220209T193403Z
LAST-MODIFIED:20220210T211306Z
UID:1739-1645549200-1645556400@www.cinecenta.com
SUMMARY:Norma Rae
DESCRIPTION:
URL:https://www.cinecenta.com/calendar/norma-rae/2022-02-22/
LOCATION:Cinecenta
END:VEVENT
BEGIN:VEVENT
DTSTART;TZID=America/Vancouver:20220220T150000
DTEND;TZID=America/Vancouver:20220220T165000
DTSTAMP:20260419T214217
CREATED:20211216T184827Z
LAST-MODIFIED:20220209T192448Z
UID:1195-1645369200-1645375800@www.cinecenta.com
SUMMARY:C’mon C’mon
DESCRIPTION:
URL:https://www.cinecenta.com/calendar/cmon-cmon/2022-02-20/
LOCATION:Cinecenta
END:VEVENT
BEGIN:VEVENT
DTSTART;TZID=America/Vancouver:20220213T150000
DTEND;TZID=America/Vancouver:20220213T170000
DTSTAMP:20260419T214217
CREATED:20211222T014027Z
LAST-MODIFIED:20220210T185709Z
UID:1397-1644764400-1644771600@www.cinecenta.com
SUMMARY:The French Dispatch
DESCRIPTION:  \n  \n 
URL:https://www.cinecenta.com/calendar/the-french-dispatch/2022-02-13/
LOCATION:Cinecenta
END:VEVENT
BEGIN:VEVENT
DTSTART;TZID=America/Vancouver:20220212T152000
DTEND;TZID=America/Vancouver:20220212T181500
DTSTAMP:20260419T214217
CREATED:20211222T004036Z
LAST-MODIFIED:20220113T203628Z
UID:1393-1644679200-1644689700@www.cinecenta.com
SUMMARY:No Time to Die
DESCRIPTION:
URL:https://www.cinecenta.com/calendar/no-time-to-die/2022-02-12/
LOCATION:Cinecenta
END:VEVENT
BEGIN:VEVENT
DTSTART;TZID=America/Vancouver:20220210T164500
DTEND;TZID=America/Vancouver:20220210T191000
DTSTAMP:20260419T214217
CREATED:20211222T003447Z
LAST-MODIFIED:20220118T024823Z
UID:1388-1644511500-1644520200@www.cinecenta.com
SUMMARY:Red Rocket
DESCRIPTION:
URL:https://www.cinecenta.com/calendar/red-rocket/2022-02-10/
LOCATION:Cinecenta
END:VEVENT
BEGIN:VEVENT
DTSTART;TZID=America/Vancouver:20220208T170000
DTEND;TZID=America/Vancouver:20220208T185000
DTSTAMP:20260419T214217
CREATED:20211222T002901Z
LAST-MODIFIED:20211222T211333Z
UID:1382-1644339600-1644346200@www.cinecenta.com
SUMMARY:In the Mood for Love
DESCRIPTION:
URL:https://www.cinecenta.com/calendar/in-the-mood-for-love/2022-02-08/
LOCATION:Cinecenta
END:VEVENT
BEGIN:VEVENT
DTSTART;TZID=America/Vancouver:20220207T170000
DTEND;TZID=America/Vancouver:20220207T190000
DTSTAMP:20260419T214217
CREATED:20211222T001804Z
LAST-MODIFIED:20220207T204003Z
UID:1378-1644253200-1644260400@www.cinecenta.com
SUMMARY:Bottle Rocket
DESCRIPTION:
URL:https://www.cinecenta.com/calendar/bottle-rocket/2022-02-07/
LOCATION:Cinecenta
END:VEVENT
BEGIN:VEVENT
DTSTART;TZID=America/Vancouver:20220206T150000
DTEND;TZID=America/Vancouver:20220206T164000
DTSTAMP:20260419T214217
CREATED:20211222T000153Z
LAST-MODIFIED:20211222T215906Z
UID:1373-1644159600-1644165600@www.cinecenta.com
SUMMARY:Fantastic Mr. Fox
DESCRIPTION:
URL:https://www.cinecenta.com/calendar/fantastic-mr-fox/2022-02-06/
LOCATION:Cinecenta
END:VEVENT
BEGIN:VEVENT
DTSTART;TZID=America/Vancouver:20220205T150000
DTEND;TZID=America/Vancouver:20220205T165000
DTSTAMP:20260419T214217
CREATED:20211221T081334Z
LAST-MODIFIED:20220118T024719Z
UID:1318-1644073200-1644079800@www.cinecenta.com
SUMMARY:Goldfinger
DESCRIPTION:
URL:https://www.cinecenta.com/calendar/goldfinger/2022-02-05/
LOCATION:Cinecenta
END:VEVENT
BEGIN:VEVENT
DTSTART;TZID=America/Vancouver:20220204T170000
DTEND;TZID=America/Vancouver:20220204T183000
DTSTAMP:20260419T214217
CREATED:20211221T080602Z
LAST-MODIFIED:20211222T222038Z
UID:1310-1643994000-1643999400@www.cinecenta.com
SUMMARY:High Noon
DESCRIPTION:
URL:https://www.cinecenta.com/calendar/high-noon/2022-02-04/
LOCATION:Cinecenta
END:VEVENT
BEGIN:VEVENT
DTSTART;TZID=America/Vancouver:20220202T164500
DTEND;TZID=America/Vancouver:20220202T190000
DTSTAMP:20260419T214217
CREATED:20211221T075638Z
LAST-MODIFIED:20211222T222634Z
UID:1304-1643820300-1643828400@www.cinecenta.com
SUMMARY:Kurt Vonnegut: Unstuck in Time
DESCRIPTION:
URL:https://www.cinecenta.com/calendar/kurt-vonnegut-unstuck-in-time/2022-02-02/
LOCATION:Cinecenta
END:VEVENT
BEGIN:VEVENT
DTSTART;TZID=America/Vancouver:20220201T170000
DTEND;TZID=America/Vancouver:20220201T184000
DTSTAMP:20260419T214217
CREATED:20211221T074722Z
LAST-MODIFIED:20240514T214557Z
UID:1300-1643734800-1643740800@www.cinecenta.com
SUMMARY:Happy Together
DESCRIPTION:
URL:https://www.cinecenta.com/calendar/happy-together/2022-02-01/
LOCATION:Cinecenta
ATTACH;FMTTYPE=image/jpeg:https://www.cinecenta.com/wp-content/uploads/2021/12/Happy-Together-e1715723021266.jpg
END:VEVENT
BEGIN:VEVENT
DTSTART;TZID=America/Vancouver:20220125T170000
DTEND;TZID=America/Vancouver:20220125T185000
DTSTAMP:20260419T214217
CREATED:20211221T070732Z
LAST-MODIFIED:20220117T234356Z
UID:1281-1643130000-1643136600@www.cinecenta.com
SUMMARY:Chungking Express
DESCRIPTION:
URL:https://www.cinecenta.com/calendar/chungking-express/2022-01-25/
LOCATION:Cinecenta
END:VEVENT
BEGIN:VEVENT
DTSTART;TZID=America/Vancouver:20220123T150000
DTEND;TZID=America/Vancouver:20220123T170000
DTSTAMP:20260419T214217
CREATED:20211221T055615Z
LAST-MODIFIED:20220118T024140Z
UID:1274-1642950000-1642957200@www.cinecenta.com
SUMMARY:The Humans
DESCRIPTION:
URL:https://www.cinecenta.com/calendar/the-humans/2022-01-23/
LOCATION:Cinecenta
END:VEVENT
END:VCALENDAR