BEGIN:VCALENDAR
VERSION:2.0
PRODID:-//Cinecenta - ECPv6.15.19//NONSGML v1.0//EN
CALSCALE:GREGORIAN
METHOD:PUBLISH
X-WR-CALNAME:Cinecenta
X-ORIGINAL-URL:https://www.cinecenta.com
X-WR-CALDESC:Events for Cinecenta
REFRESH-INTERVAL;VALUE=DURATION:PT1H
X-Robots-Tag:noindex
X-PUBLISHED-TTL:PT1H
BEGIN:VTIMEZONE
TZID:America/Vancouver
BEGIN:DAYLIGHT
TZOFFSETFROM:-0800
TZOFFSETTO:-0700
TZNAME:PDT
DTSTART:20240310T100000
END:DAYLIGHT
BEGIN:STANDARD
TZOFFSETFROM:-0700
TZOFFSETTO:-0800
TZNAME:PST
DTSTART:20241103T090000
END:STANDARD
BEGIN:DAYLIGHT
TZOFFSETFROM:-0800
TZOFFSETTO:-0700
TZNAME:PDT
DTSTART:20250309T100000
END:DAYLIGHT
BEGIN:STANDARD
TZOFFSETFROM:-0700
TZOFFSETTO:-0800
TZNAME:PST
DTSTART:20251102T090000
END:STANDARD
BEGIN:DAYLIGHT
TZOFFSETFROM:-0800
TZOFFSETTO:-0700
TZNAME:PDT
DTSTART:20260308T100000
END:DAYLIGHT
BEGIN:STANDARD
TZOFFSETFROM:-0700
TZOFFSETTO:-0800
TZNAME:PST
DTSTART:20261101T090000
END:STANDARD
END:VTIMEZONE
BEGIN:VEVENT
DTSTART;TZID=America/Vancouver:20250731T191500
DTEND;TZID=America/Vancouver:20250731T210000
DTSTAMP:20260420T145056
CREATED:20250711T232720Z
LAST-MODIFIED:20250711T232720Z
UID:13727-1753989300-1753995600@www.cinecenta.com
SUMMARY:Love & Mercy
DESCRIPTION:
URL:https://www.cinecenta.com/calendar/love-mercy/2025-07-31/3/
ATTACH;FMTTYPE=image/jpeg:https://www.cinecenta.com/wp-content/uploads/2025/07/49219207953636e030a2da0f8de3cf5d9c5b6519023d70bd8215768af8813cbf.jpg
END:VEVENT
BEGIN:VEVENT
DTSTART;TZID=America/Vancouver:20250731T170000
DTEND;TZID=America/Vancouver:20250731T183000
DTSTAMP:20260420T145056
CREATED:20250711T232720Z
LAST-MODIFIED:20250711T232720Z
UID:13726-1753981200-1753986600@www.cinecenta.com
SUMMARY:Love & Mercy
DESCRIPTION:
URL:https://www.cinecenta.com/calendar/love-mercy/2025-07-31/
ATTACH;FMTTYPE=image/jpeg:https://www.cinecenta.com/wp-content/uploads/2025/07/49219207953636e030a2da0f8de3cf5d9c5b6519023d70bd8215768af8813cbf.jpg
END:VEVENT
BEGIN:VEVENT
DTSTART;TZID=America/Vancouver:20250730T191500
DTEND;TZID=America/Vancouver:20250730T210000
DTSTAMP:20260420T145056
CREATED:20250711T232720Z
LAST-MODIFIED:20250711T232720Z
UID:13725-1753902900-1753909200@www.cinecenta.com
SUMMARY:Love & Mercy
DESCRIPTION:
URL:https://www.cinecenta.com/calendar/love-mercy/2025-07-30/2/
ATTACH;FMTTYPE=image/jpeg:https://www.cinecenta.com/wp-content/uploads/2025/07/49219207953636e030a2da0f8de3cf5d9c5b6519023d70bd8215768af8813cbf.jpg
END:VEVENT
BEGIN:VEVENT
DTSTART;TZID=America/Vancouver:20250730T170000
DTEND;TZID=America/Vancouver:20250730T183000
DTSTAMP:20260420T145056
CREATED:20250711T232720Z
LAST-MODIFIED:20250711T232720Z
UID:13719-1753894800-1753900200@www.cinecenta.com
SUMMARY:Love & Mercy
DESCRIPTION:
URL:https://www.cinecenta.com/calendar/love-mercy/2025-07-30/
ATTACH;FMTTYPE=image/jpeg:https://www.cinecenta.com/wp-content/uploads/2025/07/49219207953636e030a2da0f8de3cf5d9c5b6519023d70bd8215768af8813cbf.jpg
END:VEVENT
END:VCALENDAR