BEGIN:VCALENDAR
VERSION:2.0
PRODID:-//Cinecenta - ECPv6.15.19//NONSGML v1.0//EN
CALSCALE:GREGORIAN
METHOD:PUBLISH
X-ORIGINAL-URL:https://www.cinecenta.com
X-WR-CALDESC:Events for Cinecenta
REFRESH-INTERVAL;VALUE=DURATION:PT1H
X-Robots-Tag:noindex
X-PUBLISHED-TTL:PT1H
BEGIN:VTIMEZONE
TZID:America/Vancouver
BEGIN:DAYLIGHT
TZOFFSETFROM:-0800
TZOFFSETTO:-0700
TZNAME:PDT
DTSTART:20210314T100000
END:DAYLIGHT
BEGIN:STANDARD
TZOFFSETFROM:-0700
TZOFFSETTO:-0800
TZNAME:PST
DTSTART:20211107T090000
END:STANDARD
BEGIN:DAYLIGHT
TZOFFSETFROM:-0800
TZOFFSETTO:-0700
TZNAME:PDT
DTSTART:20220313T100000
END:DAYLIGHT
BEGIN:STANDARD
TZOFFSETFROM:-0700
TZOFFSETTO:-0800
TZNAME:PST
DTSTART:20221106T090000
END:STANDARD
BEGIN:DAYLIGHT
TZOFFSETFROM:-0800
TZOFFSETTO:-0700
TZNAME:PDT
DTSTART:20230312T100000
END:DAYLIGHT
BEGIN:STANDARD
TZOFFSETFROM:-0700
TZOFFSETTO:-0800
TZNAME:PST
DTSTART:20231105T090000
END:STANDARD
END:VTIMEZONE
BEGIN:VEVENT
DTSTART;TZID=America/Vancouver:20220703T170000
DTEND;TZID=America/Vancouver:20220703T185000
DTSTAMP:20260424T053601
CREATED:20220525T001004Z
LAST-MODIFIED:20220718T192146Z
UID:3010-1656867600-1656874200@www.cinecenta.com
SUMMARY:The Outfit
DESCRIPTION:
URL:https://www.cinecenta.com/calendar/the-outfit/2022-07-03/
ATTACH;FMTTYPE=image/jpeg:https://www.cinecenta.com/wp-content/uploads/2022/05/The-outfit-1-e1653437339813.jpg
END:VEVENT
BEGIN:VEVENT
DTSTART;TZID=America/Vancouver:20220706T170000
DTEND;TZID=America/Vancouver:20220706T184500
DTSTAMP:20260424T053601
CREATED:20220525T002131Z
LAST-MODIFIED:20230912T221229Z
UID:3018-1657126800-1657133100@www.cinecenta.com
SUMMARY:Happening (L'Événement)
DESCRIPTION:
URL:https://www.cinecenta.com/calendar/happening/2022-07-06/
ATTACH;FMTTYPE=image/jpeg:https://www.cinecenta.com/wp-content/uploads/2022/05/Happening-2-e1653437542952.jpg
END:VEVENT
BEGIN:VEVENT
DTSTART;TZID=America/Vancouver:20220708T170000
DTEND;TZID=America/Vancouver:20220708T183000
DTSTAMP:20260424T053601
CREATED:20220525T164544Z
LAST-MODIFIED:20220708T011356Z
UID:3028-1657299600-1657305000@www.cinecenta.com
SUMMARY:Petite Maman
DESCRIPTION:
URL:https://www.cinecenta.com/calendar/petite-maman/2022-07-08/
ATTACH;FMTTYPE=image/jpeg:https://www.cinecenta.com/wp-content/uploads/2022/05/Petite-Maman-2.jpg
END:VEVENT
BEGIN:VEVENT
DTSTART;TZID=America/Vancouver:20220710T164500
DTEND;TZID=America/Vancouver:20220710T190000
DTSTAMP:20260424T053601
CREATED:20220525T170241Z
LAST-MODIFIED:20220525T170241Z
UID:3043-1657471500-1657479600@www.cinecenta.com
SUMMARY:Operation Mincemeat
DESCRIPTION:
URL:https://www.cinecenta.com/calendar/operation-mincemeat/2022-07-10/
ATTACH;FMTTYPE=image/jpeg:https://www.cinecenta.com/wp-content/uploads/2022/05/Operation-Mincemeat-1-e1653497977654.jpg
END:VEVENT
BEGIN:VEVENT
DTSTART;TZID=America/Vancouver:20220713T170000
DTEND;TZID=America/Vancouver:20220713T184000
DTSTAMP:20260424T053601
CREATED:20220525T171935Z
LAST-MODIFIED:20220525T171935Z
UID:3051-1657731600-1657737600@www.cinecenta.com
SUMMARY:Hit The Road
DESCRIPTION:
URL:https://www.cinecenta.com/calendar/hit-the-road/2022-07-13/
ATTACH;FMTTYPE=image/jpeg:https://www.cinecenta.com/wp-content/uploads/2022/05/Hit-the-road-1-e1653499083759.jpg
END:VEVENT
BEGIN:VEVENT
DTSTART;TZID=America/Vancouver:20220715T170000
DTEND;TZID=America/Vancouver:20220715T184500
DTSTAMP:20260424T053601
CREATED:20220525T172905Z
LAST-MODIFIED:20220525T172905Z
UID:3061-1657904400-1657910700@www.cinecenta.com
SUMMARY:Men
DESCRIPTION:
URL:https://www.cinecenta.com/calendar/men/2022-07-15/
ATTACH;FMTTYPE=image/jpeg:https://www.cinecenta.com/wp-content/uploads/2022/05/Men-4-e1653499651769.jpg
END:VEVENT
BEGIN:VEVENT
DTSTART;TZID=America/Vancouver:20220717T170000
DTEND;TZID=America/Vancouver:20220717T183000
DTSTAMP:20260424T053601
CREATED:20220525T173754Z
LAST-MODIFIED:20220525T173754Z
UID:3071-1658077200-1658082600@www.cinecenta.com
SUMMARY:Charlotte
DESCRIPTION:
URL:https://www.cinecenta.com/calendar/charlotte/2022-07-17/
ATTACH;FMTTYPE=image/jpeg:https://www.cinecenta.com/wp-content/uploads/2022/05/Charlotte-1.jpg
END:VEVENT
BEGIN:VEVENT
DTSTART;TZID=America/Vancouver:20220727T170000
DTEND;TZID=America/Vancouver:20220727T183000
DTSTAMP:20260424T053601
CREATED:20220713T184923Z
LAST-MODIFIED:20220718T192323Z
UID:3247-1658941200-1658946600@www.cinecenta.com
SUMMARY:His Girl Friday
DESCRIPTION:
URL:https://www.cinecenta.com/calendar/his-girl-friday/2022-07-27/
ATTACH;FMTTYPE=image/jpeg:https://www.cinecenta.com/wp-content/uploads/2022/07/His-Girl-Friday-3-1-e1657737891608.jpg
END:VEVENT
BEGIN:VEVENT
DTSTART;TZID=America/Vancouver:20220728T190000
DTEND;TZID=America/Vancouver:20220728T205000
DTSTAMP:20260424T053601
CREATED:20220713T182553Z
LAST-MODIFIED:20220718T164721Z
UID:3243-1659034800-1659041400@www.cinecenta.com
SUMMARY:The Death of Angel Candy
DESCRIPTION:
URL:https://www.cinecenta.com/calendar/the-death-of-angel-candy/
ATTACH;FMTTYPE=image/jpeg:https://www.cinecenta.com/wp-content/uploads/2022/07/The-Death-of-Angel-Candy-e1657736577949.jpg
END:VEVENT
END:VCALENDAR