BEGIN:VCALENDAR
VERSION:2.0
PRODID:-//Cinecenta - ECPv6.15.19//NONSGML v1.0//EN
CALSCALE:GREGORIAN
METHOD:PUBLISH
X-WR-CALNAME:Cinecenta
X-ORIGINAL-URL:https://www.cinecenta.com
X-WR-CALDESC:Events for Cinecenta
REFRESH-INTERVAL;VALUE=DURATION:PT1H
X-Robots-Tag:noindex
X-PUBLISHED-TTL:PT1H
BEGIN:VTIMEZONE
TZID:America/Vancouver
BEGIN:DAYLIGHT
TZOFFSETFROM:-0800
TZOFFSETTO:-0700
TZNAME:PDT
DTSTART:20240310T100000
END:DAYLIGHT
BEGIN:STANDARD
TZOFFSETFROM:-0700
TZOFFSETTO:-0800
TZNAME:PST
DTSTART:20241103T090000
END:STANDARD
BEGIN:DAYLIGHT
TZOFFSETFROM:-0800
TZOFFSETTO:-0700
TZNAME:PDT
DTSTART:20250309T100000
END:DAYLIGHT
BEGIN:STANDARD
TZOFFSETFROM:-0700
TZOFFSETTO:-0800
TZNAME:PST
DTSTART:20251102T090000
END:STANDARD
BEGIN:DAYLIGHT
TZOFFSETFROM:-0800
TZOFFSETTO:-0700
TZNAME:PDT
DTSTART:20260308T100000
END:DAYLIGHT
BEGIN:STANDARD
TZOFFSETFROM:-0700
TZOFFSETTO:-0800
TZNAME:PST
DTSTART:20261101T090000
END:STANDARD
END:VTIMEZONE
BEGIN:VEVENT
DTSTART;TZID=America/Vancouver:20250802T193000
DTEND;TZID=America/Vancouver:20250802T170000
DTSTAMP:20260419T220444
CREATED:20250711T234137Z
LAST-MODIFIED:20250711T234137Z
UID:13743-1754163000-1754154000@www.cinecenta.com
SUMMARY:Sinners
DESCRIPTION:
URL:https://www.cinecenta.com/calendar/sinners/2025-08-02/
LOCATION:Cinecenta
ATTACH;FMTTYPE=image/jpeg:https://www.cinecenta.com/wp-content/uploads/2025/07/e3ae8be61e5196b986e387f513007630_1280x720.jpg
END:VEVENT
BEGIN:VEVENT
DTSTART;TZID=America/Vancouver:20250802T170000
DTEND;TZID=America/Vancouver:20250802T190000
DTSTAMP:20260419T220444
CREATED:20250711T234137Z
LAST-MODIFIED:20250711T234410Z
UID:13736-1754154000-1754161200@www.cinecenta.com
SUMMARY:Sinners
DESCRIPTION:
URL:https://www.cinecenta.com/calendar/sinners/2025-08-02/
LOCATION:Cinecenta
ATTACH;FMTTYPE=image/jpeg:https://www.cinecenta.com/wp-content/uploads/2025/07/e3ae8be61e5196b986e387f513007630_1280x720.jpg
END:VEVENT
BEGIN:VEVENT
DTSTART;TZID=America/Vancouver:20250801T193000
DTEND;TZID=America/Vancouver:20250801T213000
DTSTAMP:20260419T220444
CREATED:20250711T234137Z
LAST-MODIFIED:20250711T234410Z
UID:13735-1754076600-1754083800@www.cinecenta.com
SUMMARY:Sinners
DESCRIPTION:
URL:https://www.cinecenta.com/calendar/sinners/2025-08-01/2/
LOCATION:Cinecenta
ATTACH;FMTTYPE=image/jpeg:https://www.cinecenta.com/wp-content/uploads/2025/07/e3ae8be61e5196b986e387f513007630_1280x720.jpg
END:VEVENT
BEGIN:VEVENT
DTSTART;TZID=America/Vancouver:20250801T170000
DTEND;TZID=America/Vancouver:20250801T190000
DTSTAMP:20260419T220444
CREATED:20250711T234137Z
LAST-MODIFIED:20250711T234409Z
UID:13730-1754067600-1754074800@www.cinecenta.com
SUMMARY:Sinners
DESCRIPTION:
URL:https://www.cinecenta.com/calendar/sinners/2025-08-01/
LOCATION:Cinecenta
ATTACH;FMTTYPE=image/jpeg:https://www.cinecenta.com/wp-content/uploads/2025/07/e3ae8be61e5196b986e387f513007630_1280x720.jpg
END:VEVENT
END:VCALENDAR