BEGIN:VCALENDAR
VERSION:2.0
PRODID:-//Cinecenta - ECPv6.15.19//NONSGML v1.0//EN
CALSCALE:GREGORIAN
METHOD:PUBLISH
X-WR-CALNAME:Cinecenta
X-ORIGINAL-URL:https://www.cinecenta.com
X-WR-CALDESC:Events for Cinecenta
REFRESH-INTERVAL;VALUE=DURATION:PT1H
X-Robots-Tag:noindex
X-PUBLISHED-TTL:PT1H
BEGIN:VTIMEZONE
TZID:America/Vancouver
BEGIN:DAYLIGHT
TZOFFSETFROM:-0800
TZOFFSETTO:-0700
TZNAME:PDT
DTSTART:20230312T100000
END:DAYLIGHT
BEGIN:STANDARD
TZOFFSETFROM:-0700
TZOFFSETTO:-0800
TZNAME:PST
DTSTART:20231105T090000
END:STANDARD
BEGIN:DAYLIGHT
TZOFFSETFROM:-0800
TZOFFSETTO:-0700
TZNAME:PDT
DTSTART:20240310T100000
END:DAYLIGHT
BEGIN:STANDARD
TZOFFSETFROM:-0700
TZOFFSETTO:-0800
TZNAME:PST
DTSTART:20241103T090000
END:STANDARD
BEGIN:DAYLIGHT
TZOFFSETFROM:-0800
TZOFFSETTO:-0700
TZNAME:PDT
DTSTART:20250309T100000
END:DAYLIGHT
BEGIN:STANDARD
TZOFFSETFROM:-0700
TZOFFSETTO:-0800
TZNAME:PST
DTSTART:20251102T090000
END:STANDARD
END:VTIMEZONE
BEGIN:VEVENT
DTSTART;TZID=America/Vancouver:20240710T183000
DTEND;TZID=America/Vancouver:20240710T183000
DTSTAMP:20260421T164403
CREATED:20240515T213034Z
LAST-MODIFIED:20240515T213118Z
UID:10033-1720636200-1720636200@www.cinecenta.com
SUMMARY:Stalker
DESCRIPTION:
URL:https://www.cinecenta.com/calendar/stalker/2024-07-10/
ATTACH;FMTTYPE=image/jpeg:https://www.cinecenta.com/wp-content/uploads/2024/05/781d52992eb75372a93c3d774054a89a-1.jpeg
END:VEVENT
BEGIN:VEVENT
DTSTART;TZID=America/Vancouver:20240709T183000
DTEND;TZID=America/Vancouver:20240709T183000
DTSTAMP:20260421T164403
CREATED:20240515T213034Z
LAST-MODIFIED:20240515T213118Z
UID:10027-1720549800-1720549800@www.cinecenta.com
SUMMARY:Stalker
DESCRIPTION:
URL:https://www.cinecenta.com/calendar/stalker/2024-07-09/
ATTACH;FMTTYPE=image/jpeg:https://www.cinecenta.com/wp-content/uploads/2024/05/781d52992eb75372a93c3d774054a89a-1.jpeg
END:VEVENT
END:VCALENDAR