BEGIN:VCALENDAR
VERSION:2.0
PRODID:-//Cinecenta - ECPv6.15.19//NONSGML v1.0//EN
CALSCALE:GREGORIAN
METHOD:PUBLISH
X-WR-CALNAME:Cinecenta
X-ORIGINAL-URL:https://www.cinecenta.com
X-WR-CALDESC:Events for Cinecenta
REFRESH-INTERVAL;VALUE=DURATION:PT1H
X-Robots-Tag:noindex
X-PUBLISHED-TTL:PT1H
BEGIN:VTIMEZONE
TZID:America/Vancouver
BEGIN:DAYLIGHT
TZOFFSETFROM:-0800
TZOFFSETTO:-0700
TZNAME:PDT
DTSTART:20230312T100000
END:DAYLIGHT
BEGIN:STANDARD
TZOFFSETFROM:-0700
TZOFFSETTO:-0800
TZNAME:PST
DTSTART:20231105T090000
END:STANDARD
BEGIN:DAYLIGHT
TZOFFSETFROM:-0800
TZOFFSETTO:-0700
TZNAME:PDT
DTSTART:20240310T100000
END:DAYLIGHT
BEGIN:STANDARD
TZOFFSETFROM:-0700
TZOFFSETTO:-0800
TZNAME:PST
DTSTART:20241103T090000
END:STANDARD
BEGIN:DAYLIGHT
TZOFFSETFROM:-0800
TZOFFSETTO:-0700
TZNAME:PDT
DTSTART:20250309T100000
END:DAYLIGHT
BEGIN:STANDARD
TZOFFSETFROM:-0700
TZOFFSETTO:-0800
TZNAME:PST
DTSTART:20251102T090000
END:STANDARD
END:VTIMEZONE
BEGIN:VEVENT
DTSTART;TZID=America/Vancouver:20240626T190000
DTEND;TZID=America/Vancouver:20240626T170000
DTSTAMP:20260421T182204
CREATED:20240514T234932Z
LAST-MODIFIED:20240514T234932Z
UID:9951-1719428400-1719421200@www.cinecenta.com
SUMMARY:Suze
DESCRIPTION:
URL:https://www.cinecenta.com/calendar/suze/2024-06-26/
ATTACH;FMTTYPE=image/jpeg:https://www.cinecenta.com/wp-content/uploads/2024/05/Suze-e1715118933225.jpg
END:VEVENT
BEGIN:VEVENT
DTSTART;TZID=America/Vancouver:20240626T170000
DTEND;TZID=America/Vancouver:20240626T183000
DTSTAMP:20260421T182204
CREATED:20240514T234932Z
LAST-MODIFIED:20240514T235151Z
UID:9946-1719421200-1719426600@www.cinecenta.com
SUMMARY:Suze
DESCRIPTION:
URL:https://www.cinecenta.com/calendar/suze/2024-06-26/
ATTACH;FMTTYPE=image/jpeg:https://www.cinecenta.com/wp-content/uploads/2024/05/Suze-e1715118933225.jpg
END:VEVENT
BEGIN:VEVENT
DTSTART;TZID=America/Vancouver:20240625T190000
DTEND;TZID=America/Vancouver:20240625T170000
DTSTAMP:20260421T182204
CREATED:20240514T234932Z
LAST-MODIFIED:20240514T234932Z
UID:9950-1719342000-1719334800@www.cinecenta.com
SUMMARY:Suze
DESCRIPTION:
URL:https://www.cinecenta.com/calendar/suze/2024-06-25/2/
ATTACH;FMTTYPE=image/jpeg:https://www.cinecenta.com/wp-content/uploads/2024/05/Suze-e1715118933225.jpg
END:VEVENT
BEGIN:VEVENT
DTSTART;TZID=America/Vancouver:20240625T170000
DTEND;TZID=America/Vancouver:20240625T183000
DTSTAMP:20260421T182204
CREATED:20240514T234932Z
LAST-MODIFIED:20240514T235150Z
UID:9809-1719334800-1719340200@www.cinecenta.com
SUMMARY:Suze
DESCRIPTION:
URL:https://www.cinecenta.com/calendar/suze/2024-06-25/
ATTACH;FMTTYPE=image/jpeg:https://www.cinecenta.com/wp-content/uploads/2024/05/Suze-e1715118933225.jpg
END:VEVENT
END:VCALENDAR