BEGIN:VCALENDAR
VERSION:2.0
PRODID:-//Cinecenta - ECPv6.15.19//NONSGML v1.0//EN
CALSCALE:GREGORIAN
METHOD:PUBLISH
X-WR-CALNAME:Cinecenta
X-ORIGINAL-URL:https://www.cinecenta.com
X-WR-CALDESC:Events for Cinecenta
REFRESH-INTERVAL;VALUE=DURATION:PT1H
X-Robots-Tag:noindex
X-PUBLISHED-TTL:PT1H
BEGIN:VTIMEZONE
TZID:America/Vancouver
BEGIN:DAYLIGHT
TZOFFSETFROM:-0800
TZOFFSETTO:-0700
TZNAME:PDT
DTSTART:20230312T100000
END:DAYLIGHT
BEGIN:STANDARD
TZOFFSETFROM:-0700
TZOFFSETTO:-0800
TZNAME:PST
DTSTART:20231105T090000
END:STANDARD
BEGIN:DAYLIGHT
TZOFFSETFROM:-0800
TZOFFSETTO:-0700
TZNAME:PDT
DTSTART:20240310T100000
END:DAYLIGHT
BEGIN:STANDARD
TZOFFSETFROM:-0700
TZOFFSETTO:-0800
TZNAME:PST
DTSTART:20241103T090000
END:STANDARD
BEGIN:DAYLIGHT
TZOFFSETFROM:-0800
TZOFFSETTO:-0700
TZNAME:PDT
DTSTART:20250309T100000
END:DAYLIGHT
BEGIN:STANDARD
TZOFFSETFROM:-0700
TZOFFSETTO:-0800
TZNAME:PST
DTSTART:20251102T090000
END:STANDARD
END:VTIMEZONE
BEGIN:VEVENT
DTSTART;TZID=America/Vancouver:20240812T190000
DTEND;TZID=America/Vancouver:20240812T170000
DTSTAMP:20260419T045014
CREATED:20240515T170251Z
LAST-MODIFIED:20240515T170251Z
UID:10315-1723489200-1723482000@www.cinecenta.com
SUMMARY:The Monk and the Gun
DESCRIPTION:
URL:https://www.cinecenta.com/calendar/the-monk-and-the-gun/2024-08-12/3/
ATTACH;FMTTYPE=image/jpeg:https://www.cinecenta.com/wp-content/uploads/2024/05/The-monk-and-the-gun.jpg
END:VEVENT
BEGIN:VEVENT
DTSTART;TZID=America/Vancouver:20240812T170000
DTEND;TZID=America/Vancouver:20240812T170000
DTSTAMP:20260419T045014
CREATED:20240515T170251Z
LAST-MODIFIED:20240515T170251Z
UID:10314-1723482000-1723482000@www.cinecenta.com
SUMMARY:The Monk and the Gun
DESCRIPTION:
URL:https://www.cinecenta.com/calendar/the-monk-and-the-gun/2024-08-12/
ATTACH;FMTTYPE=image/jpeg:https://www.cinecenta.com/wp-content/uploads/2024/05/The-monk-and-the-gun.jpg
END:VEVENT
BEGIN:VEVENT
DTSTART;TZID=America/Vancouver:20240811T191000
DTEND;TZID=America/Vancouver:20240811T170000
DTSTAMP:20260419T045014
CREATED:20240515T170251Z
LAST-MODIFIED:20240515T170251Z
UID:10313-1723403400-1723395600@www.cinecenta.com
SUMMARY:The Monk and the Gun
DESCRIPTION:
URL:https://www.cinecenta.com/calendar/the-monk-and-the-gun/2024-08-11/3/
ATTACH;FMTTYPE=image/jpeg:https://www.cinecenta.com/wp-content/uploads/2024/05/The-monk-and-the-gun.jpg
END:VEVENT
BEGIN:VEVENT
DTSTART;TZID=America/Vancouver:20240811T170000
DTEND;TZID=America/Vancouver:20240811T170000
DTSTAMP:20260419T045014
CREATED:20240515T170251Z
LAST-MODIFIED:20240515T170251Z
UID:10312-1723395600-1723395600@www.cinecenta.com
SUMMARY:The Monk and the Gun
DESCRIPTION:
URL:https://www.cinecenta.com/calendar/the-monk-and-the-gun/2024-08-11/
ATTACH;FMTTYPE=image/jpeg:https://www.cinecenta.com/wp-content/uploads/2024/05/The-monk-and-the-gun.jpg
END:VEVENT
BEGIN:VEVENT
DTSTART;TZID=America/Vancouver:20240629T191000
DTEND;TZID=America/Vancouver:20240629T170000
DTSTAMP:20260419T045014
CREATED:20240515T170251Z
LAST-MODIFIED:20240712T213235Z
UID:9958-1719688200-1719680400@www.cinecenta.com
SUMMARY:The Monk and the Gun
DESCRIPTION:
URL:https://www.cinecenta.com/calendar/the-monk-and-the-gun/2024-06-29/
ATTACH;FMTTYPE=image/jpeg:https://www.cinecenta.com/wp-content/uploads/2024/05/The-monk-and-the-gun.jpg
END:VEVENT
BEGIN:VEVENT
DTSTART;TZID=America/Vancouver:20240629T170000
DTEND;TZID=America/Vancouver:20240629T170000
DTSTAMP:20260419T045014
CREATED:20240515T170251Z
LAST-MODIFIED:20240712T213234Z
UID:9954-1719680400-1719680400@www.cinecenta.com
SUMMARY:The Monk and the Gun
DESCRIPTION:
URL:https://www.cinecenta.com/calendar/the-monk-and-the-gun/2024-06-29/
ATTACH;FMTTYPE=image/jpeg:https://www.cinecenta.com/wp-content/uploads/2024/05/The-monk-and-the-gun.jpg
END:VEVENT
BEGIN:VEVENT
DTSTART;TZID=America/Vancouver:20240628T191000
DTEND;TZID=America/Vancouver:20240628T170000
DTSTAMP:20260419T045014
CREATED:20240515T170251Z
LAST-MODIFIED:20240712T213233Z
UID:9957-1719601800-1719594000@www.cinecenta.com
SUMMARY:The Monk and the Gun
DESCRIPTION:
URL:https://www.cinecenta.com/calendar/the-monk-and-the-gun/2024-06-28/2/
ATTACH;FMTTYPE=image/jpeg:https://www.cinecenta.com/wp-content/uploads/2024/05/The-monk-and-the-gun.jpg
END:VEVENT
BEGIN:VEVENT
DTSTART;TZID=America/Vancouver:20240628T170000
DTEND;TZID=America/Vancouver:20240628T170000
DTSTAMP:20260419T045014
CREATED:20240515T170251Z
LAST-MODIFIED:20240712T213231Z
UID:9797-1719594000-1719594000@www.cinecenta.com
SUMMARY:The Monk and the Gun
DESCRIPTION:
URL:https://www.cinecenta.com/calendar/the-monk-and-the-gun/
ATTACH;FMTTYPE=image/jpeg:https://www.cinecenta.com/wp-content/uploads/2024/05/The-monk-and-the-gun.jpg
END:VEVENT
END:VCALENDAR